BEGIN:VCALENDAR
VERSION:2.0
PRODID:-//Port Lincoln, South Australia - ECPv6.15.18//NONSGML v1.0//EN
CALSCALE:GREGORIAN
METHOD:PUBLISH
X-ORIGINAL-URL:https://portlincoln.com.au
X-WR-CALDESC:Events for Port Lincoln, South Australia
REFRESH-INTERVAL;VALUE=DURATION:PT1H
X-Robots-Tag:noindex
X-PUBLISHED-TTL:PT1H
BEGIN:VTIMEZONE
TZID:Australia/Adelaide
BEGIN:STANDARD
TZOFFSETFROM:+1030
TZOFFSETTO:+0930
TZNAME:ACST
DTSTART:20250405T163000
END:STANDARD
BEGIN:DAYLIGHT
TZOFFSETFROM:+0930
TZOFFSETTO:+1030
TZNAME:ACDT
DTSTART:20251004T163000
END:DAYLIGHT
BEGIN:STANDARD
TZOFFSETFROM:+1030
TZOFFSETTO:+0930
TZNAME:ACST
DTSTART:20260404T163000
END:STANDARD
BEGIN:DAYLIGHT
TZOFFSETFROM:+0930
TZOFFSETTO:+1030
TZNAME:ACDT
DTSTART:20261003T163000
END:DAYLIGHT
BEGIN:STANDARD
TZOFFSETFROM:+1030
TZOFFSETTO:+0930
TZNAME:ACST
DTSTART:20270403T163000
END:STANDARD
BEGIN:DAYLIGHT
TZOFFSETFROM:+0930
TZOFFSETTO:+1030
TZNAME:ACDT
DTSTART:20271002T163000
END:DAYLIGHT
BEGIN:STANDARD
TZOFFSETFROM:+1030
TZOFFSETTO:+0930
TZNAME:ACST
DTSTART:20280401T163000
END:STANDARD
BEGIN:DAYLIGHT
TZOFFSETFROM:+0930
TZOFFSETTO:+1030
TZNAME:ACDT
DTSTART:20280930T163000
END:DAYLIGHT
END:VTIMEZONE
BEGIN:VEVENT
DTSTART;TZID=Australia/Adelaide:20260502T230000
DTEND;TZID=Australia/Adelaide:20260502T230000
DTSTAMP:20260425T230320
CREATED:20260213T012542Z
LAST-MODIFIED:20260213T012812Z
UID:82657-1777762800-1777762800@portlincoln.com.au
SUMMARY:CHUG LIFE
DESCRIPTION:CHUG LIFE\, the ultimate festival of cold beers\, sick tunes and party vibes is coming to EYRE PENINSULA for the first time!\nFeaturing high energy performances from some of Australia’s top touring tribute bands including Follow the Leader performing KORN\, Around the Fur performing DEFTONES and Dammit performing BLINK 182\, Chug Life is the not to be missed event for raising your glass\, singing loud and rocking out with your mates.\nWhether you’re a fan of Korn\, Deftones or Blink 182 or just here for the good times and killer selection of beers\, we got you covered.\nSecure your tickets\, grab your mates\, and get ready to CHUG LIFE in style!
URL:https://portlincoln.com.au/event/chug-life/
LOCATION:Jump Ship Brewery\, 11-13 Edinburgh Street\, Port Lincoln\, SA\, 5606\, Australia
CATEGORIES:Concert or Performance,Event,Exhibition and Shows
ATTACH;FMTTYPE=image/jpeg:https://portlincoln.com.au/wp-content/uploads/2026/02/627395733_122161591190676172_7607678444326209253_n.jpg
GEO:-34.7241695;135.8605863
X-APPLE-STRUCTURED-LOCATION;VALUE=URI;X-ADDRESS=Jump Ship Brewery 11-13 Edinburgh Street Port Lincoln SA 5606 Australia;X-APPLE-RADIUS=500;X-TITLE=11-13 Edinburgh Street:geo:135.8605863,-34.7241695
END:VEVENT
BEGIN:VEVENT
DTSTART;TZID=Australia/Adelaide:20260506T190000
DTEND;TZID=Australia/Adelaide:20260506T201000
DTSTAMP:20260425T230320
CREATED:20260321T195801Z
LAST-MODIFIED:20260321T195801Z
UID:82765-1778094000-1778098200@portlincoln.com.au
SUMMARY:Skinny - Cummins
DESCRIPTION:Step into the absurd world of shakes\, shapewear\, and shifty surgeons. Society is obsessed with achieving the ‘ideal’ body size. \nMichelle Pearson\, award winning vocalist and cabaret performer calls time on this societal chokehold in her bold and empowering cabaret-theatre piece SKINNY. \nInspired by her own personal journey\, Skinny is full of biting and hilarious commentary on the extraordinary lengths people go to in pursuit of being skinny. \nA masterful blend of storytelling\, comedy\, with a soundtrack from power ballads to reimagined pop songs\, including Pretty Hurts (Beyonce)\, I Wanna Dance with Somebody (Whitney Houston)\, Karma Police (Radiohead)\, Money (Pink Floyd)\, We Didn’t Start the Fire (Billy Joel)\, SKINNY has been widely acclaimed with 5 star reviews: \nSkinny made its Off-Broadway debut in NY and performed across the UK in 2025 receiving widespread audience acclaim. Having also presented Skinny at the Adelaide Cabaret Festival in 2024 and the Adelaide Fringe in 2025\, where Michelle was awarded Best Cabaret (weekly) and the recipient of the Mental Health Commissioner’s Staging Change Award\, Michelle hits the road across South Australia in May 2026 accompanied by a four-piece cabaret band.
URL:https://portlincoln.com.au/event/skinny-cummins/
LOCATION:SA
ORGANIZER;CN="SOUTH AUSTRALIAN COUNTRY ARTS TRUST":MAILTO:nautilusartcentre@plcc.sa.gov.au
END:VEVENT
BEGIN:VEVENT
DTSTART;TZID=Australia/Adelaide:20260508T193000
DTEND;TZID=Australia/Adelaide:20260508T220000
DTSTAMP:20260425T230320
CREATED:20260213T024109Z
LAST-MODIFIED:20260213T024658Z
UID:82663-1778268600-1778277600@portlincoln.com.au
SUMMARY:Smoke & Ruins Tour
DESCRIPTION:Greedy Bunch Of Parasites are headed YOUR way this May and they’ll he joined by Ceduna wrecking crew KNAW for one night only of metal mayhem at Soundcity! \nRound up the mosh crew\, grab your ticket and get ready! SMOKE & RUINS is coming PORT LINCOLN! \n𝐅𝐑𝐈 𝐌𝐀𝐘 𝟖𝐓𝐇𝟕:𝟑𝟎𝐏𝐌𝟏𝟖+\nKiller poster art by Chalky at Moshriff Creative
URL:https://portlincoln.com.au/event/smoke-and-ruins/
LOCATION:Soundcity\, 27 Tasman Tce\, Port Lincoln\, South Australia\, 5606\, Australia
CATEGORIES:Concert or Performance,Event,Exhibition and Shows
ATTACH;FMTTYPE=image/jpeg:https://portlincoln.com.au/wp-content/uploads/2026/02/632472870_122148142520821732_3945715663930556366_n.jpg
GEO:-34.7184513;135.855533
X-APPLE-STRUCTURED-LOCATION;VALUE=URI;X-ADDRESS=Soundcity 27 Tasman Tce Port Lincoln South Australia 5606 Australia;X-APPLE-RADIUS=500;X-TITLE=27 Tasman Tce:geo:135.855533,-34.7184513
END:VEVENT
BEGIN:VEVENT
DTSTART;TZID=Australia/Adelaide:20260509T120000
DTEND;TZID=Australia/Adelaide:20260509T160000
DTSTAMP:20260425T230320
CREATED:20260425T033135Z
LAST-MODIFIED:20260425T042443Z
UID:82956-1778328000-1778342400@portlincoln.com.au
SUMMARY:Three Region Mothers Day Lunch
DESCRIPTION:Gather your loved ones this Mother’s Day to share a toast to mothers and mother figures everywhere. \nSet on the eastern hills just six kilometres from Port Lincoln\, Boston Bay Wines’ cellar door offers a breathtaking backdrop of vine-covered slopes and shimmering waters. It’s here guests will enjoy a relaxed\, premium three-course lunch showcasing the finest produce from three wine regions – the Eyre Peninsula\, Adelaide Hills and Wrattonbully. \nBegin with fresh Coffin Bay oysters and crisp arancini balls\, followed by a trio of regionally sourced proteins with seasonal accompaniments\, and conclude with a house-made dessert. Adults can elevate the experience with expertly paired wines\, while children are also catered for with a delicious meal of their own. \nINCLUSIONS – \n\nFood: Three course lunch (adults); choice of meal (kids)\nBeverages: Drink on arrival\n\nMORE INFORMATION – \n\nWheelchair accessible\nAll ages event\nCaters to vegetarian and vegan dietary requirements*
URL:https://portlincoln.com.au/event/three-region-mothers-day-lunch/
LOCATION:Boston Bay Winery\, 615 Lincoln Hwy\, Boston\, South Australia\, 5607\, Australia
CATEGORIES:Event,Festivals and Celebrations,Food and Wine
ATTACH;FMTTYPE=image/jpeg:https://portlincoln.com.au/wp-content/uploads/2026/04/10-14-2025-020340-1867.jpeg
GEO:-34.6642749;135.8517505
X-APPLE-STRUCTURED-LOCATION;VALUE=URI;X-ADDRESS=Boston Bay Winery 615 Lincoln Hwy Boston South Australia 5607 Australia;X-APPLE-RADIUS=500;X-TITLE=615 Lincoln Hwy:geo:135.8517505,-34.6642749
END:VEVENT
BEGIN:VEVENT
DTSTART;TZID=Australia/Adelaide:20260509T120000
DTEND;TZID=Australia/Adelaide:20260509T160000
DTSTAMP:20260425T230320
CREATED:20260425T042540Z
LAST-MODIFIED:20260425T042715Z
UID:82959-1778328000-1778342400@portlincoln.com.au
SUMMARY:Winter Picnic in the Beer Hall
DESCRIPTION:Jump Ship Brewing’s Beer Hall transforms into a giant winter’s picnic this May\, inviting guests to settle in for a day of tastings that champion rich\, dark brews. Think oversized rugs\, scattered floor cushions and cable-reel tables\, all bathed in soft sunlight pouring through the skylights. Live music sets a relaxed rhythm as beer lovers clink glasses and mingle with friends old and new. \nYour ticket includes entry to Port Lincoln’s much-loved brewery and four beer tastings paired with bites – imagine a frothy stout with chocolate\, or warm crisps alongside a crisp pale ale. Additional food and drinks will be available to purchase on the day. \nIt’s a Sunday session with a difference – a relaxed\, flavoursome gateway to Port Lincoln’s vibrant drinks scene. \nINCLUSIONS – \n\nFood: Four paired snacks\nBeverages: Four tastings\n\nMORE INFORMATION – \n\nWheelchair accessible\nAll ages event\nCaters to vegetarian\, vegan and coeliac dietary requirements*
URL:https://portlincoln.com.au/event/winter-picnic-in-the-beer-hall/
LOCATION:Jump Ship Brewery\, 11-13 Edinburgh Street\, Port Lincoln\, SA\, 5606\, Australia
CATEGORIES:Event,Festivals and Celebrations,Food and Wine
ATTACH;FMTTYPE=image/jpeg:https://portlincoln.com.au/wp-content/uploads/2026/04/10-15-2025-041547-8436.jpg
GEO:-34.7241695;135.8605863
X-APPLE-STRUCTURED-LOCATION;VALUE=URI;X-ADDRESS=Jump Ship Brewery 11-13 Edinburgh Street Port Lincoln SA 5606 Australia;X-APPLE-RADIUS=500;X-TITLE=11-13 Edinburgh Street:geo:135.8605863,-34.7241695
END:VEVENT
BEGIN:VEVENT
DTSTART;TZID=Australia/Adelaide:20260509T183000
DTEND;TZID=Australia/Adelaide:20260509T220000
DTSTAMP:20260425T230320
CREATED:20260213T022651Z
LAST-MODIFIED:20260213T023129Z
UID:82660-1778351400-1778364000@portlincoln.com.au
SUMMARY:Ben Lee
DESCRIPTION:After reminding fans and media nationwide why they fell in love with his songs and antics on his widely successful Awake Is The New Sleep 20th Anniversary Tour\, Ben Lee is back with a string of 40 regional dates in 2026.\n“Being out on the road just for the sake of it is what it’s all about” he says “anniversaries are nice\, but the road is where it happens. Night after night\, sweaty\, a little chaotic\, unpredictable. Hand to hand combat”. He winks.\nSee you out on the road!
URL:https://portlincoln.com.au/event/ben-lee/
LOCATION:Port Lincoln Brewing Co.\, 28 London Street\, Port Lincoln\, South Australia\, 5606\, Australia
CATEGORIES:Concert or Performance,Event,Exhibition and Shows
ATTACH;FMTTYPE=image/jpeg:https://portlincoln.com.au/wp-content/uploads/2026/02/616831348_122114008977153364_4312245465521500696_n.jpg
GEO:-34.724806;135.8699779
X-APPLE-STRUCTURED-LOCATION;VALUE=URI;X-ADDRESS=Port Lincoln Brewing Co. 28 London Street Port Lincoln South Australia 5606 Australia;X-APPLE-RADIUS=500;X-TITLE=28 London Street:geo:135.8699779,-34.724806
END:VEVENT
BEGIN:VEVENT
DTSTART;TZID=Australia/Adelaide:20260531T120000
DTEND;TZID=Australia/Adelaide:20260531T170000
DTSTAMP:20260425T230320
CREATED:20260424T014019Z
LAST-MODIFIED:20260424T014839Z
UID:82933-1780228800-1780246800@portlincoln.com.au
SUMMARY:Port Lincoln Long Lunch
DESCRIPTION:The Port Lincoln Long Lunch is a long-standing collaboration between local hospitality venues\, bringing the community together to celebrate the region’s incredible produce\, wine\, beer and live music in one vibrant\, one-day event.\n\n\n\n\n\n\n\n\nFirst held in 1998 and initiated by the Zonta Club of Port Lincoln\, the Long Lunch was created to showcase the abundance of local produce alongside the talent of local chefs and musicians. Originally staged in February\, the event later moved to align with the Adelaide Cup long weekend in May. Over the years\, it has continued to evolve and is now proudly run by the participating venues themselves. \nPort Lincoln Long Lunch is back for 2026. \nMark your calendars for Sunday 31 May 2026\, as this much-loved event returns for a day of incredible food\, local flavour and community spirit. \nFor one day only\, nine of Port Lincoln’s favourite venues will come together to showcase the very best of the region. Each venue will offer a limited\, produce-driven menu\, highlighting fresh local ingredients and the creativity of Port Lincoln’s award-winning chefs. Expect delicious dishes\, relaxed coastal vibes and live entertainment at every stop. \nStart your day at your chosen venue\, then make your way around town at your own pace. Walk between locations or hop on and off the Long Lunch City Loop Bus as you explore\, graze and experience Port Lincoln’s vibrant food scene. \nEven better\, every bite gives back\, with all proceeds supporting a local Port Lincoln charity. \nGather your friends\, plan your route and settle in for a long lunch\, Port Lincoln style.
URL:https://portlincoln.com.au/event/port-lincoln-long-lunch/
LOCATION:Port Lincoln Brewing Co.\, 28 London Street\, Port Lincoln\, South Australia\, 5606\, Australia
CATEGORIES:Community Event,Concert or Performance,Event,Festivals and Celebrations,Food and Wine
ATTACH;FMTTYPE=image/jpeg:https://portlincoln.com.au/wp-content/uploads/2023/07/210530_Long_Lunch_Port_Lincoln_Robert-Lang_134-Copy-scaled.jpg
GEO:-34.724806;135.8699779
X-APPLE-STRUCTURED-LOCATION;VALUE=URI;X-ADDRESS=Port Lincoln Brewing Co. 28 London Street Port Lincoln South Australia 5606 Australia;X-APPLE-RADIUS=500;X-TITLE=28 London Street:geo:135.8699779,-34.724806
END:VEVENT
BEGIN:VEVENT
DTSTART;TZID=Australia/Adelaide:20260613T190000
DTEND;TZID=Australia/Adelaide:20260613T210000
DTSTAMP:20260425T230320
CREATED:20260425T013148Z
LAST-MODIFIED:20260425T013335Z
UID:82953-1781377200-1781384400@portlincoln.com.au
SUMMARY:Granny Flaps Bingo!
DESCRIPTION:Welcome to the hilarious and unpredictable world of Granny Flaps Comedy Bingo! Join us for a night of laughter\, drinks\, and games like you’ve never seen before. Award winning comedian Granny Flaps is your host and the amazing DJ Tim keeps the vibes going throughout the night.\nDate: Saturday June 13thTime: 7:00 PMLocation: Jump Ship Brewing\nFood available. Once you have purchased tickets someone in your party will need to book a table or tables with the venue. Max table size is 10.Get ready to win some amazing prizes\, enjoy great company\, and experience a night you won’t forget.THIS IS NOT AN ACTUAL BINGO NIGHT
URL:https://portlincoln.com.au/event/granny-flaps-bingo/
LOCATION:Jumpship Brewing\, 11-13 Edinburgh Street\, Port Lincoln\, 5606\, Australia
CATEGORIES:Concert or Performance,Event,Exhibition and Shows
ATTACH;FMTTYPE=image/jpeg:https://portlincoln.com.au/wp-content/uploads/2026/04/672067146_10162813710801818_7093653386479867431_n.jpg
GEO:-34.7241695;135.8605863
X-APPLE-STRUCTURED-LOCATION;VALUE=URI;X-ADDRESS=Jumpship Brewing 11-13 Edinburgh Street Port Lincoln 5606 Australia;X-APPLE-RADIUS=500;X-TITLE=11-13 Edinburgh Street:geo:135.8605863,-34.7241695
END:VEVENT
BEGIN:VEVENT
DTSTART;TZID=Australia/Adelaide:20260613T193000
DTEND;TZID=Australia/Adelaide:20260613T213000
DTSTAMP:20260425T230320
CREATED:20260425T012200Z
LAST-MODIFIED:20260425T012647Z
UID:82946-1781379000-1781386200@portlincoln.com.au
SUMMARY:The Beatles Experience
DESCRIPTION:Join for a night to remember on Saturday 13th June as The Beatles Experience brings the magic of the Fab Four to life.\n‘The Beatles Experience’ faithfully captures the music of The Beatles in an extraordinary show with tight harmonies\, brilliant musicianship and some of the greatest songs ever written.\n\nPlaying all of your favourite Beatles classics from the albums ‘Please Please Me’\, ‘Beatles for sale’ and ‘Rubber Soul’\, right through to the later years of ‘Sgt. Pepper’s Lonely Hearts Club Band’\, ‘Abbey Road’ and ‘Let It Be’. \n\nDoors open 7.30pm\, Show starting 8.30pm\nTICKETSEARLY BIRD | 25pp plus booking feeREGULAR | 30pp plus booking fee\nBuy tickets here >> tix.yt/the-beatles-experience
URL:https://portlincoln.com.au/event/the-beatles-experience-2/
LOCATION:Port Lincoln Hotel\, 1 Lincoln Highway\, Port Lincoln\, 5606\, Australia
CATEGORIES:Concert or Performance,Event,Exhibition and Shows
ATTACH;FMTTYPE=image/jpeg:https://portlincoln.com.au/wp-content/uploads/2026/04/678584634_1438275351673857_1412406889410152504_n.jpg
GEO:-34.7178538;135.8544864
X-APPLE-STRUCTURED-LOCATION;VALUE=URI;X-ADDRESS=Port Lincoln Hotel 1 Lincoln Highway Port Lincoln 5606 Australia;X-APPLE-RADIUS=500;X-TITLE=1 Lincoln Highway:geo:135.8544864,-34.7178538
END:VEVENT
BEGIN:VEVENT
DTSTART;TZID=Australia/Adelaide:20260711T200000
DTEND;TZID=Australia/Adelaide:20260711T230000
DTSTAMP:20260425T230320
CREATED:20260425T012757Z
LAST-MODIFIED:20260425T013016Z
UID:82950-1783800000-1783810800@portlincoln.com.au
SUMMARY:Phil Jamieson
DESCRIPTION:Hello friends\, I am coming to your town on the #PJAIR tour in support of my new record 10Charlie. It will be the best of times.\nTickets on sale 9am AEST\, Mon 13 Apr
URL:https://portlincoln.com.au/event/phil-jamieson/
LOCATION:Port Lincoln Brewing Co.\, 28 London Street\, Port Lincoln\, South Australia\, 5606\, Australia
CATEGORIES:Concert or Performance,Event,Exhibition and Shows
ATTACH;FMTTYPE=image/jpeg:https://portlincoln.com.au/wp-content/uploads/2026/04/668899593_1507122240782027_4016286366630185839_n.jpg
GEO:-34.724806;135.8699779
X-APPLE-STRUCTURED-LOCATION;VALUE=URI;X-ADDRESS=Port Lincoln Brewing Co. 28 London Street Port Lincoln South Australia 5606 Australia;X-APPLE-RADIUS=500;X-TITLE=28 London Street:geo:135.8699779,-34.724806
END:VEVENT
BEGIN:VEVENT
DTSTART;TZID=Australia/Adelaide:20261124T063000
DTEND;TZID=Australia/Adelaide:20261124T183000
DTSTAMP:20260425T230320
CREATED:20250523T012823Z
LAST-MODIFIED:20250523T014032Z
UID:80972-1795501800-1795545000@portlincoln.com.au
SUMMARY:Grand Princess Cruise Ship
DESCRIPTION:Port Lincoln is a popular destination for cruise ships. The cruise ship season usually runs from October to April with the number of ships visiting Port Lincoln varying year to year. \nWith each ship visit there is approximately 700-3600 passengers and up to 1000 crew that disembark and visit the city. These large numbers of visitors significantly increase the number of people in the CBD\, which is positively managed with the wonderful assistance of our Cruise Ship Volunteers. In previous years Port Lincoln has received accolades as being voted as best port by passengers according to South Australian Tourism Commission market research. \nThe number of Cruise Ships to visit Port Lincoln continues to increase. We can’t wait for the 2025/2026 Cruise Ship season.  Many of the same cruise ships will return with a couple of new ones to visit for the first time. \nFrom the ship it is approximately a 10 minute walk along our beautiful foreshore to the CBD.  There is also plenty of things to see and do to enjoy our picturesque city. \nTours are bookable through the Visitor Information Centre please click link: Cruise Ship \nIf you have any questions please call the Visitor Information Centre on 1300 788 378. \nPlease note the table below is subject to change. *Updated on 25/5/25 \nCRUISE SHIPS 2025-2027 \n\n\n\nARRIVAL DATE\nCRUISE SHIP\nPASSENGERS\nCREW\n\n\nFriday 21 Nov 2025 6:00\nSILVER NOVA\n728\n544\n\n\nFriday 6 Mar 2026 6:30\nDISCOVERY PRINCESS\n3\,660\n1\,346\n\n\nSunday 8 Mar 2026 6:00\nSLIVER DAWN\n596\n411\n\n\nTuesday 24 Nov 2026 6:30\nGRAND PRINCESS\n2\,590\n1\,100\n\n\nSunday 28 Feb 2027 8:00\nAZAMARA QUEST\n704\n408\n\n\nSunday 21 Mar 2027  6:30\nSEABORN QUEST\n458\n335\n\n\nFriday 26 Mar 2027 6:30\nPACIFIC ADVENTURE\n2\,636\n1\,100
URL:https://portlincoln.com.au/event/cruise-ships-2026-24nov/
LOCATION:Port Lincoln\, Tasman Tce\, Port Lincoln\, SA\, 5606
CATEGORIES:Community Event,Event
ATTACH;FMTTYPE=image/jpeg:https://portlincoln.com.au/wp-content/uploads/2022/06/MG_8122-1.jpg
GEO:-34.7301943;135.8504838
X-APPLE-STRUCTURED-LOCATION;VALUE=URI;X-ADDRESS=Port Lincoln Tasman Tce Port Lincoln SA 5606;X-APPLE-RADIUS=500;X-TITLE=Tasman Tce:geo:135.8504838,-34.7301943
END:VEVENT
BEGIN:VEVENT
DTSTART;TZID=Australia/Adelaide:20261218T163000
DTEND;TZID=Australia/Adelaide:20261218T230000
DTSTAMP:20260425T230320
CREATED:20240423T195914Z
LAST-MODIFIED:20260203T195633Z
UID:78053-1797611400-1797634800@portlincoln.com.au
SUMMARY:Coffin Bay - Christmas on the Bay
DESCRIPTION:Christmas on the Bay is a free annual community event organised by volunteers and supported by local businesses.  Coffin Bay residents and visitors get together to enjoy a fun-filled evening with activities on the foreshore starting from 4.30 pm\, and the pageant commencing at 6.00 pm
URL:https://portlincoln.com.au/event/coffin-bay-christmas-on-the-bay/
LOCATION:SA
CATEGORIES:Community Event,Event
ATTACH;FMTTYPE=image/jpeg:https://portlincoln.com.au/wp-content/uploads/2026/02/ATDW-Coffin-Bay-Christmas-on-the-Bay.jpeg
ORGANIZER;CN="Coffin Bay Tourist Association":MAILTO:coffinbaysun@gmail.com
END:VEVENT
BEGIN:VEVENT
DTSTART;TZID=Australia/Adelaide:20270228T063000
DTEND;TZID=Australia/Adelaide:20270228T183000
DTSTAMP:20260425T230320
CREATED:20250523T014641Z
LAST-MODIFIED:20250523T014731Z
UID:80974-1803796200-1803839400@portlincoln.com.au
SUMMARY:Azmara Quest Cruise Ship
DESCRIPTION:Port Lincoln is a popular destination for cruise ships. The cruise ship season usually runs from October to April with the number of ships visiting Port Lincoln varying year to year. \nWith each ship visit there is approximately 700-3600 passengers and up to 1000 crew that disembark and visit the city. These large numbers of visitors significantly increase the number of people in the CBD\, which is positively managed with the wonderful assistance of our Cruise Ship Volunteers. In previous years Port Lincoln has received accolades as being voted as best port by passengers according to South Australian Tourism Commission market research. \nThe number of Cruise Ships to visit Port Lincoln continues to increase. We can’t wait for the 2025/2026 Cruise Ship season.  Many of the same cruise ships will return with a couple of new ones to visit for the first time. \nFrom the ship it is approximately a 10 minute walk along our beautiful foreshore to the CBD.  There is also plenty of things to see and do to enjoy our picturesque city. \nTours are bookable through the Visitor Information Centre please click link: Cruise Ship \nIf you have any questions please call the Visitor Information Centre on 1300 788 378. \nPlease note the table below is subject to change. *Updated on 25/5/25 \nCRUISE SHIPS 2025-2027 \n\n\n\nARRIVAL DATE\nCRUISE SHIP\nPASSENGERS\nCREW\n\n\nFriday 21 Nov 2025 6:00\nSILVER NOVA\n728\n544\n\n\nFriday 6 Mar 2026 6:30\nDISCOVERY PRINCESS\n3\,660\n1\,346\n\n\nSunday 8 Mar 2026 6:00\nSLIVER DAWN\n596\n411\n\n\nTuesday 24 Nov 2026 6:30\nGRAND PRINCESS\n2\,590\n1\,100\n\n\nSunday 28 Feb 2027 8:00\nAZAMARA QUEST\n704\n408\n\n\nSunday 21 Mar 2027  6:30\nSEABORN QUEST\n458\n335\n\n\nFriday 26 Mar 2027 6:30\nPACIFIC ADVENTURE\n2\,636\n1\,100
URL:https://portlincoln.com.au/event/cruise-ships-2027-28feb/
LOCATION:Port Lincoln\, Tasman Tce\, Port Lincoln\, SA\, 5606
CATEGORIES:Community Event,Event
ATTACH;FMTTYPE=image/jpeg:https://portlincoln.com.au/wp-content/uploads/2022/06/MG_8122-1.jpg
GEO:-34.7301943;135.8504838
X-APPLE-STRUCTURED-LOCATION;VALUE=URI;X-ADDRESS=Port Lincoln Tasman Tce Port Lincoln SA 5606;X-APPLE-RADIUS=500;X-TITLE=Tasman Tce:geo:135.8504838,-34.7301943
END:VEVENT
BEGIN:VEVENT
DTSTART;TZID=Australia/Adelaide:20270321T063000
DTEND;TZID=Australia/Adelaide:20270321T183000
DTSTAMP:20260425T230320
CREATED:20250523T014734Z
LAST-MODIFIED:20250523T014806Z
UID:80976-1805610600-1805653800@portlincoln.com.au
SUMMARY:Seaborn Quest Cruise Ship
DESCRIPTION:Port Lincoln is a popular destination for cruise ships. The cruise ship season usually runs from October to April with the number of ships visiting Port Lincoln varying year to year. \nWith each ship visit there is approximately 700-3600 passengers and up to 1000 crew that disembark and visit the city. These large numbers of visitors significantly increase the number of people in the CBD\, which is positively managed with the wonderful assistance of our Cruise Ship Volunteers. In previous years Port Lincoln has received accolades as being voted as best port by passengers according to South Australian Tourism Commission market research. \nThe number of Cruise Ships to visit Port Lincoln continues to increase. We can’t wait for the 2025/2026 Cruise Ship season.  Many of the same cruise ships will return with a couple of new ones to visit for the first time. \nFrom the ship it is approximately a 10 minute walk along our beautiful foreshore to the CBD.  There is also plenty of things to see and do to enjoy our picturesque city. \nTours are bookable through the Visitor Information Centre please click link: Cruise Ship \nIf you have any questions please call the Visitor Information Centre on 1300 788 378. \nPlease note the table below is subject to change. *Updated on 25/5/25 \nCRUISE SHIPS 2025-2027 \n\n\n\nARRIVAL DATE\nCRUISE SHIP\nPASSENGERS\nCREW\n\n\nFriday 21 Nov 2025 6:00\nSILVER NOVA\n728\n544\n\n\nFriday 6 Mar 2026 6:30\nDISCOVERY PRINCESS\n3\,660\n1\,346\n\n\nSunday 8 Mar 2026 6:00\nSLIVER DAWN\n596\n411\n\n\nTuesday 24 Nov 2026 6:30\nGRAND PRINCESS\n2\,590\n1\,100\n\n\nSunday 28 Feb 2027 8:00\nAZAMARA QUEST\n704\n408\n\n\nSunday 21 Mar 2027  6:30\nSEABORN QUEST\n458\n335\n\n\nFriday 26 Mar 2027 6:30\nPACIFIC ADVENTURE\n2\,636\n1\,100
URL:https://portlincoln.com.au/event/cruise-ships-2027-21mar/
LOCATION:Port Lincoln\, Tasman Tce\, Port Lincoln\, SA\, 5606
CATEGORIES:Community Event,Event
ATTACH;FMTTYPE=image/jpeg:https://portlincoln.com.au/wp-content/uploads/2022/06/MG_8122-1.jpg
GEO:-34.7301943;135.8504838
X-APPLE-STRUCTURED-LOCATION;VALUE=URI;X-ADDRESS=Port Lincoln Tasman Tce Port Lincoln SA 5606;X-APPLE-RADIUS=500;X-TITLE=Tasman Tce:geo:135.8504838,-34.7301943
END:VEVENT
BEGIN:VEVENT
DTSTART;TZID=Australia/Adelaide:20270326T063000
DTEND;TZID=Australia/Adelaide:20270326T183000
DTSTAMP:20260425T230320
CREATED:20250523T014811Z
LAST-MODIFIED:20250523T014848Z
UID:80978-1806042600-1806085800@portlincoln.com.au
SUMMARY:Pacific Adventure Cruise Ship
DESCRIPTION:Port Lincoln is a popular destination for cruise ships. The cruise ship season usually runs from October to April with the number of ships visiting Port Lincoln varying year to year. \nWith each ship visit there is approximately 700-3600 passengers and up to 1000 crew that disembark and visit the city. These large numbers of visitors significantly increase the number of people in the CBD\, which is positively managed with the wonderful assistance of our Cruise Ship Volunteers. In previous years Port Lincoln has received accolades as being voted as best port by passengers according to South Australian Tourism Commission market research. \nThe number of Cruise Ships to visit Port Lincoln continues to increase. We can’t wait for the 2025/2026 Cruise Ship season.  Many of the same cruise ships will return with a couple of new ones to visit for the first time. \nFrom the ship it is approximately a 10 minute walk along our beautiful foreshore to the CBD.  There is also plenty of things to see and do to enjoy our picturesque city. \nTours are bookable through the Visitor Information Centre please click link: Cruise Ship \nIf you have any questions please call the Visitor Information Centre on 1300 788 378. \nPlease note the table below is subject to change. *Updated on 25/5/25 \nCRUISE SHIPS 2025-2027 \n\n\n\nARRIVAL DATE\nCRUISE SHIP\nPASSENGERS\nCREW\n\n\nFriday 21 Nov 2025 6:00\nSILVER NOVA\n728\n544\n\n\nFriday 6 Mar 2026 6:30\nDISCOVERY PRINCESS\n3\,660\n1\,346\n\n\nSunday 8 Mar 2026 6:00\nSLIVER DAWN\n596\n411\n\n\nTuesday 24 Nov 2026 6:30\nGRAND PRINCESS\n2\,590\n1\,100\n\n\nSunday 28 Feb 2027 8:00\nAZAMARA QUEST\n704\n408\n\n\nSunday 21 Mar 2027  6:30\nSEABORN QUEST\n458\n335\n\n\nFriday 26 Mar 2027 6:30\nPACIFIC ADVENTURE\n2\,636\n1\,100
URL:https://portlincoln.com.au/event/cruise-ships-2027-26mar/
LOCATION:Port Lincoln\, Tasman Tce\, Port Lincoln\, SA\, 5606
CATEGORIES:Community Event,Event
ATTACH;FMTTYPE=image/jpeg:https://portlincoln.com.au/wp-content/uploads/2022/06/MG_8122-1.jpg
GEO:-34.7301943;135.8504838
X-APPLE-STRUCTURED-LOCATION;VALUE=URI;X-ADDRESS=Port Lincoln Tasman Tce Port Lincoln SA 5606;X-APPLE-RADIUS=500;X-TITLE=Tasman Tce:geo:135.8504838,-34.7301943
END:VEVENT
END:VCALENDAR