BEGIN:VCALENDAR
VERSION:2.0
PRODID:-//Port Lincoln, South Australia - ECPv6.15.18//NONSGML v1.0//EN
CALSCALE:GREGORIAN
METHOD:PUBLISH
X-ORIGINAL-URL:https://portlincoln.com.au
X-WR-CALDESC:Events for Port Lincoln, South Australia
REFRESH-INTERVAL;VALUE=DURATION:PT1H
X-Robots-Tag:noindex
X-PUBLISHED-TTL:PT1H
BEGIN:VTIMEZONE
TZID:Australia/Adelaide
BEGIN:STANDARD
TZOFFSETFROM:+1030
TZOFFSETTO:+0930
TZNAME:ACST
DTSTART:20230401T163000
END:STANDARD
BEGIN:DAYLIGHT
TZOFFSETFROM:+0930
TZOFFSETTO:+1030
TZNAME:ACDT
DTSTART:20230930T163000
END:DAYLIGHT
BEGIN:STANDARD
TZOFFSETFROM:+1030
TZOFFSETTO:+0930
TZNAME:ACST
DTSTART:20240406T163000
END:STANDARD
BEGIN:DAYLIGHT
TZOFFSETFROM:+0930
TZOFFSETTO:+1030
TZNAME:ACDT
DTSTART:20241005T163000
END:DAYLIGHT
BEGIN:STANDARD
TZOFFSETFROM:+1030
TZOFFSETTO:+0930
TZNAME:ACST
DTSTART:20250405T163000
END:STANDARD
BEGIN:DAYLIGHT
TZOFFSETFROM:+0930
TZOFFSETTO:+1030
TZNAME:ACDT
DTSTART:20251004T163000
END:DAYLIGHT
END:VTIMEZONE
BEGIN:VEVENT
DTSTART;TZID=Australia/Adelaide:20241206T130000
DTEND;TZID=Australia/Adelaide:20241206T173000
DTSTAMP:20260424T055835
CREATED:20241108T013821Z
LAST-MODIFIED:20241108T014108Z
UID:79830-1733490000-1733506200@portlincoln.com.au
SUMMARY:Jingle Bells Twilight Race Meeting
DESCRIPTION:Enjoy Christmas at the race course!\nPackages available for corporate gatherings\, or bring your mates and make a casual day of it!\nJingle Bells Xmas PartyJoin us in the Function Centre for an all-inclusive drinks package\, gourmet catering provided by 1802\, and even a visit from Santa!– race course admission and complimentary race book– 4hr drink package with local wines– All day gourmet canape catering provided by 1802– Live music and entertainment– Dedicated TAB and premium Christmas themed venue\nFancy something a little more casual? Book your own dedicated Trackside Table and get up close to the action! Pre-ordered food and drink can be arranged on request.\nGeneral admission and custom packages\, too – there’s something to suit everyone
URL:https://portlincoln.com.au/event/6-dec-twilight/
LOCATION:Port Lincoln Racecourse\, Port Lincoln Racecourse\, Port Lincoln\, 5606\, Australia
CATEGORIES:Event,Sporting Events
ATTACH;FMTTYPE=image/jpeg:https://portlincoln.com.au/wp-content/uploads/2024/11/461793379_1062803469186627_3194440181342370359_n.jpg
GEO:-34.7470172;135.8523789
X-APPLE-STRUCTURED-LOCATION;VALUE=URI;X-ADDRESS=Port Lincoln Racecourse Port Lincoln Racecourse Port Lincoln 5606 Australia;X-APPLE-RADIUS=500;X-TITLE=Port Lincoln Racecourse:geo:135.8523789,-34.7470172
END:VEVENT
BEGIN:VEVENT
DTSTART;TZID=Australia/Adelaide:20241218T120000
DTEND;TZID=Australia/Adelaide:20241218T173000
DTSTAMP:20260424T055835
CREATED:20241108T014131Z
LAST-MODIFIED:20241108T014515Z
UID:79834-1734523200-1734543000@portlincoln.com.au
SUMMARY:Yumbah Mussel Holdings Christmas Meeting
DESCRIPTION:It’s seven days out from the big day\, and we’ve heard Santa has swapped the reindeer out for thoroughbreds!
URL:https://portlincoln.com.au/event/yumbah-christmas/
LOCATION:Port Lincoln Racecourse\, Port Lincoln Racecourse\, Port Lincoln\, 5606\, Australia
CATEGORIES:Event,Sporting Events
ATTACH;FMTTYPE=image/jpeg:https://portlincoln.com.au/wp-content/uploads/2024/11/461848688_1062806492519658_646159769830404668_n.jpg
GEO:-34.7470172;135.8523789
X-APPLE-STRUCTURED-LOCATION;VALUE=URI;X-ADDRESS=Port Lincoln Racecourse Port Lincoln Racecourse Port Lincoln 5606 Australia;X-APPLE-RADIUS=500;X-TITLE=Port Lincoln Racecourse:geo:135.8523789,-34.7470172
END:VEVENT
END:VCALENDAR