BEGIN:VCALENDAR
VERSION:2.0
PRODID:-//Port Lincoln, South Australia - ECPv6.15.18//NONSGML v1.0//EN
CALSCALE:GREGORIAN
METHOD:PUBLISH
X-WR-CALNAME:Port Lincoln, South Australia
X-ORIGINAL-URL:https://portlincoln.com.au
X-WR-CALDESC:Events for Port Lincoln, South Australia
REFRESH-INTERVAL;VALUE=DURATION:PT1H
X-Robots-Tag:noindex
X-PUBLISHED-TTL:PT1H
BEGIN:VTIMEZONE
TZID:Australia/Adelaide
BEGIN:STANDARD
TZOFFSETFROM:+1030
TZOFFSETTO:+0930
TZNAME:ACST
DTSTART:20220402T163000
END:STANDARD
BEGIN:DAYLIGHT
TZOFFSETFROM:+0930
TZOFFSETTO:+1030
TZNAME:ACDT
DTSTART:20221001T163000
END:DAYLIGHT
BEGIN:STANDARD
TZOFFSETFROM:+1030
TZOFFSETTO:+0930
TZNAME:ACST
DTSTART:20230401T163000
END:STANDARD
BEGIN:DAYLIGHT
TZOFFSETFROM:+0930
TZOFFSETTO:+1030
TZNAME:ACDT
DTSTART:20230930T163000
END:DAYLIGHT
BEGIN:STANDARD
TZOFFSETFROM:+1030
TZOFFSETTO:+0930
TZNAME:ACST
DTSTART:20240406T163000
END:STANDARD
BEGIN:DAYLIGHT
TZOFFSETFROM:+0930
TZOFFSETTO:+1030
TZNAME:ACDT
DTSTART:20241005T163000
END:DAYLIGHT
END:VTIMEZONE
BEGIN:VEVENT
DTSTART;TZID=Australia/Adelaide:20230514T090000
DTEND;TZID=Australia/Adelaide:20230514T140000
DTSTAMP:20260422T030824
CREATED:20230503T022729Z
LAST-MODIFIED:20230503T022935Z
UID:49200-1684054800-1684072800@portlincoln.com.au
SUMMARY:Lil J's Vintage Markets
DESCRIPTION:Brisbane’s Home of Recycled Streetwear and Secondhand Garments Market is super excited to announce it is teaming up with Rogue & Rascal + Rebel to bring Port Lincoln their Second Edition of Local Makers & Secondhand Clothing Markets.\n\nAfter proudly smashing out 70+ Markets in Brisbane since April 2016\, it’s with great pleasure that we present our first Eyre Penisula Takeover.\n\nEvent Date & Time: Sunday 14th of May\, 9am – 2pm.\n\nImportant Information: There is a Bar! With Food\, Drinks & bathrooms on the premises.\n\nRecycled Vintage and Pre-loved Unisex Garments\, Plants\, Local Makers\, Bric a Brac + so much more! All stallholders are welcome\, the more the merrier.\n\nStall Holder Positions: For Stall Holder information please email Jacqueline at liljsvintage@gmail.com or @liljsvintagmarkets.\n\nLOVE LIL J.\nWe acknowledge the traditional owners of the land on which this Event stands. We pay our respects to the past\, present\, and emerging elders and recognise the traditional custodians of this land and pay my respects to the Elders both past and present.
URL:https://portlincoln.com.au/event/lil-js-vintage-markets/
LOCATION:Centenary Oval\, Hallet Place\, Port Lincoln\, SA\, 5606
CATEGORIES:Community Event,Event,Markets
ATTACH;FMTTYPE=image/jpeg:https://portlincoln.com.au/wp-content/uploads/2023/05/IMG_9628.jpg
GEO:-34.7307511;135.8564576
X-APPLE-STRUCTURED-LOCATION;VALUE=URI;X-ADDRESS=Centenary Oval Hallet Place Port Lincoln SA 5606;X-APPLE-RADIUS=500;X-TITLE=Hallet Place:geo:135.8564576,-34.7307511
END:VEVENT
BEGIN:VEVENT
DTSTART;TZID=Australia/Adelaide:20230514T090000
DTEND;TZID=Australia/Adelaide:20230514T140000
DTSTAMP:20260422T030824
CREATED:20230503T044226Z
LAST-MODIFIED:20230503T044329Z
UID:49208-1684054800-1684072800@portlincoln.com.au
SUMMARY:Coffin Bay Market
DESCRIPTION:Community Market selling locally made home baked food\, ice cream\, 2nd hand books\, art & craft items \, toys\, cut flowers and lots more… \nLocated in the Coffin Bay Town Hall
URL:https://portlincoln.com.au/event/coffin-bay-market-mar-copy/
LOCATION:Coffin Bay\, 13 Esplanade\, Coffin Bay\, 5607\, Australia
CATEGORIES:Community Event,Markets
ATTACH;FMTTYPE=image/png:https://portlincoln.com.au/wp-content/uploads/2022/10/COFFIN-BAY.png
GEO:-34.617405;135.4795181
X-APPLE-STRUCTURED-LOCATION;VALUE=URI;X-ADDRESS=Coffin Bay 13 Esplanade Coffin Bay 5607 Australia;X-APPLE-RADIUS=500;X-TITLE=13 Esplanade:geo:135.4795181,-34.617405
END:VEVENT
BEGIN:VEVENT
DTSTART;TZID=Australia/Adelaide:20230521T090000
DTEND;TZID=Australia/Adelaide:20230521T140000
DTSTAMP:20260422T030824
CREATED:20230503T045647Z
LAST-MODIFIED:20230503T045737Z
UID:49225-1684659600-1684677600@portlincoln.com.au
SUMMARY:Lincoln Family Market
DESCRIPTION:Markets are held monthly offering a range of stalls including local produce\, baked goods\, unique and handmade items. \nIf you wish to have a stall please contact Judy on 0448 925 065.
URL:https://portlincoln.com.au/event/lincoln-family-market-copy/
LOCATION:Port Lincoln\, Port Lincoln\, 5606\, Australia
CATEGORIES:Community Event,Markets
ATTACH;FMTTYPE=image/jpeg:https://portlincoln.com.au/wp-content/uploads/2022/10/81882816_1368860489940111_2163923966765301760_n.jpg
GEO:-34.7301943;135.8504838
END:VEVENT
END:VCALENDAR