BEGIN:VCALENDAR
VERSION:2.0
PRODID:-//Port Lincoln, South Australia - ECPv6.15.18//NONSGML v1.0//EN
CALSCALE:GREGORIAN
METHOD:PUBLISH
X-ORIGINAL-URL:https://portlincoln.com.au
X-WR-CALDESC:Events for Port Lincoln, South Australia
REFRESH-INTERVAL;VALUE=DURATION:PT1H
X-Robots-Tag:noindex
X-PUBLISHED-TTL:PT1H
BEGIN:VTIMEZONE
TZID:Australia/Adelaide
BEGIN:STANDARD
TZOFFSETFROM:+1030
TZOFFSETTO:+0930
TZNAME:ACST
DTSTART:20240406T163000
END:STANDARD
BEGIN:DAYLIGHT
TZOFFSETFROM:+0930
TZOFFSETTO:+1030
TZNAME:ACDT
DTSTART:20241005T163000
END:DAYLIGHT
BEGIN:STANDARD
TZOFFSETFROM:+1030
TZOFFSETTO:+0930
TZNAME:ACST
DTSTART:20250405T163000
END:STANDARD
BEGIN:DAYLIGHT
TZOFFSETFROM:+0930
TZOFFSETTO:+1030
TZNAME:ACDT
DTSTART:20251004T163000
END:DAYLIGHT
BEGIN:STANDARD
TZOFFSETFROM:+1030
TZOFFSETTO:+0930
TZNAME:ACST
DTSTART:20260404T163000
END:STANDARD
BEGIN:DAYLIGHT
TZOFFSETFROM:+0930
TZOFFSETTO:+1030
TZNAME:ACDT
DTSTART:20261003T163000
END:DAYLIGHT
END:VTIMEZONE
BEGIN:VEVENT
DTSTART;TZID=Australia/Adelaide:20251201T100000
DTEND;TZID=Australia/Adelaide:20251228T170000
DTSTAMP:20260426T063420
CREATED:20221120T031605Z
LAST-MODIFIED:20251130T021204Z
UID:41824-1764583200-1766941200@portlincoln.com.au
SUMMARY:Cummins Winter Wonderland
DESCRIPTION:Open 10am-5pm from 1st until 28th December except Christmas Day\, when we’re open from 2-5pm. \nEntry is a gold coin donation to encourage multiple visits – it’s too hard to absorb all of the little details in one visit! \nThe Cummin’s Christmas Wonderland is a hall full of magical displays celebrating Christmas and other children’s themes. The Wonderland stemmed from one person’s idea\, who had envisioned an area featuring a collection of Christmas structures and decorations. It was an immediate success and from that it expanded to a larger venue with bigger and better structures and lighting before becoming self funding with the help of the Cummins District Community Bank\, gold coin entry fees and local business donations. \nSanta visits 13th-24th of December. Times: 10.30am-12pm & 2.30pm-4pm \nWe hope to have you visit our Christmas Wonderland soon!
URL:https://portlincoln.com.au/event/winter-wonderland/
LOCATION:SA
CATEGORIES:Community Event,Event,Exhibition and Shows,Festivals and Celebrations
ATTACH;FMTTYPE=image/jpeg:https://portlincoln.com.au/wp-content/uploads/2022/11/561386581_853086687393390_1261599668340649372_n-e1764468681568.jpg
END:VEVENT
BEGIN:VEVENT
DTSTART;TZID=Australia/Adelaide:20251206T150000
DTEND;TZID=Australia/Adelaide:20251206T190000
DTSTAMP:20260426T063420
CREATED:20251130T024324Z
LAST-MODIFIED:20251224T002545Z
UID:82192-1765033200-1765047600@portlincoln.com.au
SUMMARY:Spencer Street Markets
DESCRIPTION:Spencer Street Markets –Christmas Edition 6 December |  3–7 PM |  Tumby BayCome along for a relaxed afternoon of local stalls\, food\, music\, and good vibes. Perfect way to kick off the festive season in the bay
URL:https://portlincoln.com.au/event/spencer-st-market/
LOCATION:Tumby Bay\, West\, Tumby Bay\, South Australia\, 5606\, Australia
CATEGORIES:Community Event,Event,Festivals and Celebrations,Markets
ATTACH;FMTTYPE=image/jpeg:https://portlincoln.com.au/wp-content/uploads/2025/11/571346289_849091860978634_897026961316105148_n-e1764470666399.jpg
GEO:-34.7307511;135.8564576
X-APPLE-STRUCTURED-LOCATION;VALUE=URI;X-ADDRESS=Tumby Bay West Tumby Bay South Australia 5606 Australia;X-APPLE-RADIUS=500;X-TITLE=West:geo:135.8564576,-34.7307511
END:VEVENT
BEGIN:VEVENT
DTSTART;TZID=Australia/Adelaide:20251207T100000
DTEND;TZID=Australia/Adelaide:20251207T150000
DTSTAMP:20260426T063420
CREATED:20251130T021212Z
LAST-MODIFIED:20251224T002626Z
UID:82183-1765101600-1765119600@portlincoln.com.au
SUMMARY:Cummins Christmas Markets
DESCRIPTION:Cummins Christmas Markets return on Sunday 7 December 2025 at the RSL Hall from 10.00am–3.00pm. Browse local stalls\, discover handmade gifts\, enjoy festive treats\, and soak up the community spirit as the town comes alive for the holiday season. A perfect day out for families and friends.
URL:https://portlincoln.com.au/event/cummins-christmas-markets/
LOCATION:SA
CATEGORIES:Community Event,Event,Exhibition and Shows,Festivals and Celebrations,Food and Wine,Markets
ATTACH;FMTTYPE=image/jpeg:https://portlincoln.com.au/wp-content/uploads/2025/11/584477342_1268162842013106_3642593281998298540_n-e1764468950480.jpg
END:VEVENT
BEGIN:VEVENT
DTSTART;TZID=Australia/Adelaide:20251221T090000
DTEND;TZID=Australia/Adelaide:20251221T140000
DTSTAMP:20260426T063420
CREATED:20250214T050524Z
LAST-MODIFIED:20250214T050545Z
UID:80361-1766307600-1766325600@portlincoln.com.au
SUMMARY:Port Lincoln Family Markets
DESCRIPTION:Markets are held monthly offering a range of stalls including local produce\, baked goods\, unique and handmade items. \nIf you wish to have a stall please contact Judy on 0448 925 065.
URL:https://portlincoln.com.au/event/lincoln-markets-dec/
LOCATION:Port Lincoln\, Tasman Tce\, Port Lincoln\, SA\, 5606
CATEGORIES:Community Event,Markets
ATTACH;FMTTYPE=image/jpeg:https://portlincoln.com.au/wp-content/uploads/2022/10/81882816_1368860489940111_2163923966765301760_n.jpg
GEO:-34.7301943;135.8504838
X-APPLE-STRUCTURED-LOCATION;VALUE=URI;X-ADDRESS=Port Lincoln Tasman Tce Port Lincoln SA 5606;X-APPLE-RADIUS=500;X-TITLE=Tasman Tce:geo:135.8504838,-34.7301943
END:VEVENT
BEGIN:VEVENT
DTSTART;TZID=Australia/Adelaide:20251221T190000
DTEND;TZID=Australia/Adelaide:20251221T213000
DTSTAMP:20260426T063420
CREATED:20251130T021744Z
LAST-MODIFIED:20251224T003122Z
UID:82186-1766343600-1766352600@portlincoln.com.au
SUMMARY:Cummins Community Carols
DESCRIPTION:Cummins Community Carols – Sunday 21 December 2025 \nJoin the Cummins Christian Community for a festive evening at the annual Cummins Community Carols\, held at the Cummins Railway Triangle. Pre-show entertainment begins from 7pm\, with the much-loved carols commencing at 8pm. \nFamilies and friends are encouraged to bring their own chairs\, picnic food\, drinks and plenty of festive cheer as the community comes together to celebrate the season. Donations on the night will support the Cummins Men’s Shed. \nA joyful\, family-friendly event that brings the spirit of Christmas to the heart of Cummins.
URL:https://portlincoln.com.au/event/cummins-carols/
LOCATION:SA
CATEGORIES:Community Event,Concert or Performance,Event,Exhibition and Shows,Festivals and Celebrations
ATTACH;FMTTYPE=image/jpeg:https://portlincoln.com.au/wp-content/uploads/2025/11/592757591_1403986835066335_6975042422062228758_n-e1764469129393.jpg
END:VEVENT
END:VCALENDAR