BEGIN:VCALENDAR
VERSION:2.0
PRODID:-//Port Lincoln, South Australia - ECPv6.15.18//NONSGML v1.0//EN
CALSCALE:GREGORIAN
METHOD:PUBLISH
X-ORIGINAL-URL:https://portlincoln.com.au
X-WR-CALDESC:Events for Port Lincoln, South Australia
REFRESH-INTERVAL;VALUE=DURATION:PT1H
X-Robots-Tag:noindex
X-PUBLISHED-TTL:PT1H
BEGIN:VTIMEZONE
TZID:Australia/Adelaide
BEGIN:STANDARD
TZOFFSETFROM:+1030
TZOFFSETTO:+0930
TZNAME:ACST
DTSTART:20240406T163000
END:STANDARD
BEGIN:DAYLIGHT
TZOFFSETFROM:+0930
TZOFFSETTO:+1030
TZNAME:ACDT
DTSTART:20241005T163000
END:DAYLIGHT
BEGIN:STANDARD
TZOFFSETFROM:+1030
TZOFFSETTO:+0930
TZNAME:ACST
DTSTART:20250405T163000
END:STANDARD
BEGIN:DAYLIGHT
TZOFFSETFROM:+0930
TZOFFSETTO:+1030
TZNAME:ACDT
DTSTART:20251004T163000
END:DAYLIGHT
BEGIN:STANDARD
TZOFFSETFROM:+1030
TZOFFSETTO:+0930
TZNAME:ACST
DTSTART:20260404T163000
END:STANDARD
BEGIN:DAYLIGHT
TZOFFSETFROM:+0930
TZOFFSETTO:+1030
TZNAME:ACDT
DTSTART:20261003T163000
END:DAYLIGHT
END:VTIMEZONE
BEGIN:VEVENT
DTSTART;TZID=Australia/Adelaide:20251101T143000
DTEND;TZID=Australia/Adelaide:20251101T160000
DTSTAMP:20260424T232809
CREATED:20250928T035746Z
LAST-MODIFIED:20250928T040455Z
UID:81825-1762007400-1762012800@portlincoln.com.au
SUMMARY:Halloween Show and Shine
DESCRIPTION:Gathering people for a 2025 Halloween show and shineGot plans for Halloween? Well now you do\, so come on down and show off your pride and joyMeet down at Axel Stenross Port LincolnCome and go at anytime
URL:https://portlincoln.com.au/event/halloween-show-and-shine/
LOCATION:Axel Stenross Maritime Museum\, 97 Lincoln Hwy\, Port Lincoln\, SA\, 5606
CATEGORIES:Community Event,Event,Exhibition and Shows,Festivals and Celebrations
ATTACH;FMTTYPE=image/jpeg:https://portlincoln.com.au/wp-content/uploads/2025/09/Poster-Halloween-Show-Shine-2025-e1759031819579.jpg
GEO:-34.7043313;135.8546841
X-APPLE-STRUCTURED-LOCATION;VALUE=URI;X-ADDRESS=Axel Stenross Maritime Museum 97 Lincoln Hwy Port Lincoln SA 5606;X-APPLE-RADIUS=500;X-TITLE=97 Lincoln Hwy:geo:135.8546841,-34.7043313
END:VEVENT
BEGIN:VEVENT
DTSTART;TZID=Australia/Adelaide:20251121T063000
DTEND;TZID=Australia/Adelaide:20251121T183000
DTSTAMP:20260424T232809
CREATED:20250523T010028Z
LAST-MODIFIED:20250523T014938Z
UID:80966-1763706600-1763749800@portlincoln.com.au
SUMMARY:Silver Nova Cruise Ship
DESCRIPTION:Port Lincoln is a popular destination for cruise ships. The cruise ship season usually runs from October to April with the number of ships visiting Port Lincoln varying year to year. \nWith each ship visit there is approximately 700-3600 passengers and up to 1000 crew that disembark and visit the city. These large numbers of visitors significantly increase the number of people in the CBD\, which is positively managed with the wonderful assistance of our Cruise Ship Volunteers. In previous years Port Lincoln has received accolades as being voted as best port by passengers according to South Australian Tourism Commission market research. \nThe number of Cruise Ships to visit Port Lincoln continues to increase. We can’t wait for the 2025/2026 Cruise Ship season.  Many of the same cruise ships will return with a couple of new ones to visit for the first time. \nFrom the ship it is approximately a 10 minute walk along our beautiful foreshore to the CBD.  There is also plenty of things to see and do to enjoy our picturesque city. \nTours are bookable through the Visitor Information Centre please click link: Cruise Ship \nIf you have any questions please call the Visitor Information Centre on 1300 788 378. \nPlease note the table below is subject to change. *Updated on 25/5/25 \nCRUISE SHIPS 2025-2027 \n\n\n\nARRIVAL DATE\nCRUISE SHIP\nPASSENGERS\nCREW\n\n\nFriday 21 Nov 2025 6:00\nSILVER NOVA\n728\n544\n\n\nFriday 6 Mar 2026 6:30\nDISCOVERY PRINCESS\n3\,660\n1\,346\n\n\nSunday 8 Mar 2026 6:00\nSLIVER DAWN\n596\n411\n\n\nTuesday 24 Nov 2026 6:30\nGRAND PRINCESS\n2\,590\n1\,100\n\n\nSunday 28 Feb 2027 8:00\nAZAMARA QUEST\n704\n408\n\n\nSunday 21 Mar 2027  6:30\nSEABORN QUEST\n458\n335\n\n\nFriday 26 Mar 2027 6:30\nPACIFIC ADVENTURE\n2\,636\n1\,100
URL:https://portlincoln.com.au/event/cruise-ships-2025-21nov/
LOCATION:Centenary Oval\, Hallet Place\, Port Lincoln\, SA\, 5606
CATEGORIES:Community Event,Event
ATTACH;FMTTYPE=image/jpeg:https://portlincoln.com.au/wp-content/uploads/2022/06/MG_8122-1.jpg
GEO:-34.7307511;135.8564576
X-APPLE-STRUCTURED-LOCATION;VALUE=URI;X-ADDRESS=Centenary Oval Hallet Place Port Lincoln SA 5606;X-APPLE-RADIUS=500;X-TITLE=Hallet Place:geo:135.8564576,-34.7307511
END:VEVENT
BEGIN:VEVENT
DTSTART;TZID=Australia/Adelaide:20251130T090000
DTEND;TZID=Australia/Adelaide:20251130T140000
DTSTAMP:20260424T232809
CREATED:20250214T050500Z
LAST-MODIFIED:20250524T015855Z
UID:80359-1764493200-1764511200@portlincoln.com.au
SUMMARY:Port Lincoln Family Markets
DESCRIPTION:Markets are held monthly offering a range of stalls including local produce\, baked goods\, unique and handmade items. \nIf you wish to have a stall please contact Judy on 0448 925 065.
URL:https://portlincoln.com.au/event/lincoln-markets-nov/
LOCATION:Port Lincoln\, Tasman Tce\, Port Lincoln\, SA\, 5606
CATEGORIES:Community Event,Markets
ATTACH;FMTTYPE=image/jpeg:https://portlincoln.com.au/wp-content/uploads/2022/10/81882816_1368860489940111_2163923966765301760_n.jpg
GEO:-34.7301943;135.8504838
X-APPLE-STRUCTURED-LOCATION;VALUE=URI;X-ADDRESS=Port Lincoln Tasman Tce Port Lincoln SA 5606;X-APPLE-RADIUS=500;X-TITLE=Tasman Tce:geo:135.8504838,-34.7301943
END:VEVENT
END:VCALENDAR