BEGIN:VCALENDAR
VERSION:2.0
PRODID:-//Port Lincoln, South Australia - ECPv6.15.18//NONSGML v1.0//EN
CALSCALE:GREGORIAN
METHOD:PUBLISH
X-ORIGINAL-URL:https://portlincoln.com.au
X-WR-CALDESC:Events for Port Lincoln, South Australia
REFRESH-INTERVAL;VALUE=DURATION:PT1H
X-Robots-Tag:noindex
X-PUBLISHED-TTL:PT1H
BEGIN:VTIMEZONE
TZID:Australia/Adelaide
BEGIN:STANDARD
TZOFFSETFROM:+1030
TZOFFSETTO:+0930
TZNAME:ACST
DTSTART:20240406T163000
END:STANDARD
BEGIN:DAYLIGHT
TZOFFSETFROM:+0930
TZOFFSETTO:+1030
TZNAME:ACDT
DTSTART:20241005T163000
END:DAYLIGHT
BEGIN:STANDARD
TZOFFSETFROM:+1030
TZOFFSETTO:+0930
TZNAME:ACST
DTSTART:20250405T163000
END:STANDARD
BEGIN:DAYLIGHT
TZOFFSETFROM:+0930
TZOFFSETTO:+1030
TZNAME:ACDT
DTSTART:20251004T163000
END:DAYLIGHT
BEGIN:STANDARD
TZOFFSETFROM:+1030
TZOFFSETTO:+0930
TZNAME:ACST
DTSTART:20260404T163000
END:STANDARD
BEGIN:DAYLIGHT
TZOFFSETFROM:+0930
TZOFFSETTO:+1030
TZNAME:ACDT
DTSTART:20261003T163000
END:DAYLIGHT
END:VTIMEZONE
BEGIN:VEVENT
DTSTART;TZID=Australia/Adelaide:20251004T110000
DTEND;TZID=Australia/Adelaide:20251004T160000
DTSTAMP:20260423T200111
CREATED:20250928T030547Z
LAST-MODIFIED:20250928T030843Z
UID:81804-1759575600-1759593600@portlincoln.com.au
SUMMARY:BAMM-Beach\, Arts\, Music\, Markets
DESCRIPTION:Celebrate the best of Port Lincoln at BAMM – Beach\, Arts\, Music\, Markets on Sunday\, 4 October 2026. Set against the stunning foreshore\, this vibrant event brings together live music\, creative arts\, market stalls\, and a relaxed beachside atmosphere. From local flavours and handcrafted treasures to performances that showcase the region’s talent\, BAMM is a celebration of community and culture by the sea.
URL:https://portlincoln.com.au/event/bamm-beach-arts-music-markets-oct4/
LOCATION:Coffin Bay\, 13 Esplanade\, Coffin Bay\, 5607\, Australia
CATEGORIES:Community Event,Concert or Performance,Event,Festivals and Celebrations,Food and Wine,Markets
ATTACH;FMTTYPE=image/jpeg:https://portlincoln.com.au/wp-content/uploads/2025/09/548740328_1257038829559220_78523393009014170_n-e1759028812485.jpg
GEO:-34.617405;135.4795181
X-APPLE-STRUCTURED-LOCATION;VALUE=URI;X-ADDRESS=Coffin Bay 13 Esplanade Coffin Bay 5607 Australia;X-APPLE-RADIUS=500;X-TITLE=13 Esplanade:geo:135.4795181,-34.617405
END:VEVENT
BEGIN:VEVENT
DTSTART;TZID=Australia/Adelaide:20251011T090000
DTEND;TZID=Australia/Adelaide:20251011T140000
DTSTAMP:20260423T200111
CREATED:20250929T063715Z
LAST-MODIFIED:20250929T063948Z
UID:81838-1760173200-1760191200@portlincoln.com.au
SUMMARY:Local Loves Market
DESCRIPTION: We’re popping up again and you’re gonna want to be there. \nLoves Market – Saturday 11th of October Jumpship Brewing\, Port Lincoln |  9am–2pm\nDig through racks of preloved fashion\, snap up vintage treasures\, load up on jewellery\, accessories\, and handmade goodies\, and vibe with some of Port Lincoln’s best local legends.\n Coffee from 9am to kickstart your rummaging Beers + lunch from 12pmIt’s part market\, part treasure hunt\, part hangout.Come for a browse\, stay for a bev.\n Want to be a Stallholder? Drop us an email: indisynced@gmail.com
URL:https://portlincoln.com.au/event/local-loves-market-2/
LOCATION:Jump Ship Brewery\, 11-13 Edinburgh Street\, Port Lincoln\, SA\, 5606\, Australia
CATEGORIES:Community Event,Event,Food and Wine,Markets
ATTACH;FMTTYPE=image/jpeg:https://portlincoln.com.au/wp-content/uploads/2025/09/549917436_122103409263021925_7988497039991838828_n.jpg
GEO:-34.7241695;135.8605863
X-APPLE-STRUCTURED-LOCATION;VALUE=URI;X-ADDRESS=Jump Ship Brewery 11-13 Edinburgh Street Port Lincoln SA 5606 Australia;X-APPLE-RADIUS=500;X-TITLE=11-13 Edinburgh Street:geo:135.8605863,-34.7241695
END:VEVENT
BEGIN:VEVENT
DTSTART;TZID=Australia/Adelaide:20251019T090000
DTEND;TZID=Australia/Adelaide:20251019T140000
DTSTAMP:20260423T200111
CREATED:20250214T050434Z
LAST-MODIFIED:20250214T050454Z
UID:80357-1760864400-1760882400@portlincoln.com.au
SUMMARY:Port Lincoln Family Markets
DESCRIPTION:Markets are held monthly offering a range of stalls including local produce\, baked goods\, unique and handmade items. \nIf you wish to have a stall please contact Judy on 0448 925 065.
URL:https://portlincoln.com.au/event/lincoln-markets-oct/
LOCATION:Port Lincoln\, Port Lincoln\, 5606\, Australia
CATEGORIES:Community Event,Markets
ATTACH;FMTTYPE=image/jpeg:https://portlincoln.com.au/wp-content/uploads/2022/10/81882816_1368860489940111_2163923966765301760_n.jpg
GEO:-34.7301943;135.8504838
END:VEVENT
BEGIN:VEVENT
DTSTART;TZID=Australia/Adelaide:20251031T150000
DTEND;TZID=Australia/Adelaide:20251031T220000
DTSTAMP:20260423T200111
CREATED:20250928T033800Z
LAST-MODIFIED:20250928T034430Z
UID:81820-1761922800-1761948000@portlincoln.com.au
SUMMARY:CarnEVIL
DESCRIPTION:A major Halloween event titled CarnEVIL\, taking place on Friday October 31st\, 2025 at Gardners Vineyard\, North Shields.\nOnly 10mins from Port Lincoln.\nAll profits raised will be donated to official charity partner – Ronald McDonald House Charities SA.\nAbout CarnEVIL:This immersive Halloween experience will be divided into zones for all ages:\nKIDS ZONE: Candy & ClownsA light-hearted area featuring a mini maze\, bulk lollies\, fun\, decorations\, and local food/drink vendors. Parents can relax with a wine or beer while their kids enjoy a safe\, festive environment. *** Gold coin entry ***\nFreaky Funhouse Maze (All Ages)A 12m x 9m event marquee transformed into a spooky maze using fencing\, fabric\, lighting\, fog\, and circus-themed décor. Open from 3pm to dark\, this section will be eerie but family-friendly with no major scares—just a fun Halloween thrill! *** Ticketed ***\nCarnEVIL: The Main Event (R18 or U18 with Guardian)After dark\, the atmosphere shifts dramatically with live scare actors in horror costumes\, strobe and UV lighting\, horror sound effects\, projections\, and HEAVY music. *** Ticketed ***
URL:https://portlincoln.com.au/event/carnevil/
LOCATION:Gardner’s Vineyard\, 368 Haigh Drive\, North Shields\, SA\, 5607
CATEGORIES:Community Event,Concert or Performance,Event,Exhibition and Shows,Festivals and Celebrations,Food and Wine
ATTACH;FMTTYPE=image/jpeg:https://portlincoln.com.au/wp-content/uploads/2025/09/545051037_122133966854878026_4041332675824422732_n-e1759030884738.jpg
GEO:-34.6426773;135.8268472
X-APPLE-STRUCTURED-LOCATION;VALUE=URI;X-ADDRESS=Gardner’s Vineyard 368 Haigh Drive North Shields SA 5607;X-APPLE-RADIUS=500;X-TITLE=368 Haigh Drive:geo:135.8268472,-34.6426773
END:VEVENT
BEGIN:VEVENT
DTSTART;TZID=Australia/Adelaide:20251031T170000
DTEND;TZID=Australia/Adelaide:20251031T193000
DTSTAMP:20260423T200111
CREATED:20250928T033257Z
LAST-MODIFIED:20250928T033656Z
UID:81816-1761930000-1761939000@portlincoln.com.au
SUMMARY:Kids Life Party
DESCRIPTION:A free party for ages 5-11(5:30pm) and 12-18 (7:30pm) offered as an alternative to halloween.Stay tuned for more information and booking details.
URL:https://portlincoln.com.au/event/kids-life-party/
LOCATION:Port Lincoln Baptist Church\, 7 Ravendale Road\, Port Lincoln\, SA\, 5606
CATEGORIES:Community Event,Event,Festivals and Celebrations
ATTACH;FMTTYPE=image/jpeg:https://portlincoln.com.au/wp-content/uploads/2025/09/549037318_1104772538447963_7076757570340269552_n.jpg
GEO:-34.7335107;135.8662227
X-APPLE-STRUCTURED-LOCATION;VALUE=URI;X-ADDRESS=Port Lincoln Baptist Church 7 Ravendale Road Port Lincoln SA 5606;X-APPLE-RADIUS=500;X-TITLE=7 Ravendale Road:geo:135.8662227,-34.7335107
END:VEVENT
END:VCALENDAR