BEGIN:VCALENDAR
VERSION:2.0
PRODID:-//Port Lincoln, South Australia - ECPv6.15.18//NONSGML v1.0//EN
CALSCALE:GREGORIAN
METHOD:PUBLISH
X-WR-CALNAME:Port Lincoln, South Australia
X-ORIGINAL-URL:https://portlincoln.com.au
X-WR-CALDESC:Events for Port Lincoln, South Australia
REFRESH-INTERVAL;VALUE=DURATION:PT1H
X-Robots-Tag:noindex
X-PUBLISHED-TTL:PT1H
BEGIN:VTIMEZONE
TZID:Australia/Adelaide
BEGIN:STANDARD
TZOFFSETFROM:+1030
TZOFFSETTO:+0930
TZNAME:ACST
DTSTART:20240406T163000
END:STANDARD
BEGIN:DAYLIGHT
TZOFFSETFROM:+0930
TZOFFSETTO:+1030
TZNAME:ACDT
DTSTART:20241005T163000
END:DAYLIGHT
BEGIN:STANDARD
TZOFFSETFROM:+1030
TZOFFSETTO:+0930
TZNAME:ACST
DTSTART:20250405T163000
END:STANDARD
BEGIN:DAYLIGHT
TZOFFSETFROM:+0930
TZOFFSETTO:+1030
TZNAME:ACDT
DTSTART:20251004T163000
END:DAYLIGHT
BEGIN:STANDARD
TZOFFSETFROM:+1030
TZOFFSETTO:+0930
TZNAME:ACST
DTSTART:20260404T163000
END:STANDARD
BEGIN:DAYLIGHT
TZOFFSETFROM:+0930
TZOFFSETTO:+1030
TZNAME:ACDT
DTSTART:20261003T163000
END:DAYLIGHT
END:VTIMEZONE
BEGIN:VEVENT
DTSTART;TZID=Australia/Adelaide:20250705T193000
DTEND;TZID=Australia/Adelaide:20250705T210000
DTSTAMP:20260422T120026
CREATED:20250607T024544Z
LAST-MODIFIED:20250607T024952Z
UID:81048-1751743800-1751749200@portlincoln.com.au
SUMMARY:Night Fever: The Ultimate Bee Gees Tribute
DESCRIPTION:Get ready for a night of DISCO FEVER!\nSat 5th JulyDoors open 7.30pm / Show 8.30pmLincoln Ballroom\nTickets $30pp plus booking fee
URL:https://portlincoln.com.au/event/night-fever/
LOCATION:Port Lincoln Hotel\, 1 Lincoln Highway\, Port Lincoln\, 5606\, Australia
CATEGORIES:Community Event,Concert or Performance,Event,Food and Wine
ATTACH;FMTTYPE=image/jpeg:https://portlincoln.com.au/wp-content/uploads/2025/06/500127493_1161775125990549_4939639644406399660_n-e1749264516436.jpg
GEO:-34.7178538;135.8544864
X-APPLE-STRUCTURED-LOCATION;VALUE=URI;X-ADDRESS=Port Lincoln Hotel 1 Lincoln Highway Port Lincoln 5606 Australia;X-APPLE-RADIUS=500;X-TITLE=1 Lincoln Highway:geo:135.8544864,-34.7178538
END:VEVENT
BEGIN:VEVENT
DTSTART;TZID=Australia/Adelaide:20250708T100000
DTEND;TZID=Australia/Adelaide:20250708T140000
DTSTAMP:20260422T120026
CREATED:20250518T033721Z
LAST-MODIFIED:20250518T033916Z
UID:80944-1751968800-1751983200@portlincoln.com.au
SUMMARY:Bumbles the Clown Magic Show
DESCRIPTION:Fun and laughter for the whole family. \nTickets $15 per child plus booking fee\nTicket includes a bag of popcorn and juice box \nParents Free Entry\n(Parents must remain onsite throughout the event) \n\n\nWhen: Tuesday 8th July \nWhere: Lincoln Ballroom
URL:https://portlincoln.com.au/event/bumbles-magic/
LOCATION:Port Lincoln Hotel\, 1 Lincoln Highway\, Port Lincoln\, 5606\, Australia
CATEGORIES:Community Event,Concert or Performance,Event,Food and Wine
ATTACH;FMTTYPE=image/jpeg:https://portlincoln.com.au/wp-content/uploads/2025/05/PLH-MagicShow25-Web-724x1024-1-e1747539511693.jpg
GEO:-34.7178538;135.8544864
X-APPLE-STRUCTURED-LOCATION;VALUE=URI;X-ADDRESS=Port Lincoln Hotel 1 Lincoln Highway Port Lincoln 5606 Australia;X-APPLE-RADIUS=500;X-TITLE=1 Lincoln Highway:geo:135.8544864,-34.7178538
END:VEVENT
BEGIN:VEVENT
DTSTART;TZID=Australia/Adelaide:20250709T100000
DTEND;TZID=Australia/Adelaide:20250709T140000
DTSTAMP:20260422T120026
CREATED:20250518T033919Z
LAST-MODIFIED:20250518T034152Z
UID:80947-1752055200-1752069600@portlincoln.com.au
SUMMARY:Bumbles the Clown: Incredi-Bubble Fun
DESCRIPTION:“Fun and bubble for the whole family” \nTickets $15 per child \nTicket includes bag of popcorn and juice box for the kids! \n(Parents free entry – Parents must remain on sit throughout the event) \n\n\nWhen: Wednesday 9th July \nWhere: Lincoln Ballroom
URL:https://portlincoln.com.au/event/bumbles-bubble-fun/
LOCATION:Port Lincoln Hotel\, 1 Lincoln Highway\, Port Lincoln\, 5606\, Australia
CATEGORIES:Community Event,Concert or Performance,Event,Food and Wine
ATTACH;FMTTYPE=image/jpeg:https://portlincoln.com.au/wp-content/uploads/2025/05/PLH-IncredibubbleFun25-Web-724x1024-1-e1747539704715.jpg
GEO:-34.7178538;135.8544864
X-APPLE-STRUCTURED-LOCATION;VALUE=URI;X-ADDRESS=Port Lincoln Hotel 1 Lincoln Highway Port Lincoln 5606 Australia;X-APPLE-RADIUS=500;X-TITLE=1 Lincoln Highway:geo:135.8544864,-34.7178538
END:VEVENT
BEGIN:VEVENT
DTSTART;TZID=Australia/Adelaide:20250710T170000
DTEND;TZID=Australia/Adelaide:20250710T190000
DTSTAMP:20260422T120026
CREATED:20250706T031629Z
LAST-MODIFIED:20250706T032006Z
UID:81232-1752166800-1752174000@portlincoln.com.au
SUMMARY:NAIDOC Disco
DESCRIPTION:It’s time to get your glow sticks ready and your dancing shoes on — because it’s NAIDOC and we’re throwing a DISCO for the young ones!\nPrimary school aged children up to 11 years old.\nWe’re turning up the music\, lighting up the dance floor\, and creating a safe\, fun space for our next generation to celebrate and connect!\nDJ SARZ pumping out the tracksDance comps & prizesSnacks & drinks provided\nSupervised event with friendly youth workers & volunteers\nThis one’s all about our young mob — come celebrate culture\, community\, and just have a good time together!
URL:https://portlincoln.com.au/event/naidoc-disco/
LOCATION:Mallee Park\, Seaton Ave\, Port Lincoln\, SA\, 5606\, Australia
CATEGORIES:Community Event,Concert or Performance,Event,Festivals and Celebrations
ATTACH;FMTTYPE=image/jpeg:https://portlincoln.com.au/wp-content/uploads/2025/07/503028467_122113142774864865_4083893364881012249_n-e1751771997289.jpg
GEO:-34.7333823;135.8621426
X-APPLE-STRUCTURED-LOCATION;VALUE=URI;X-ADDRESS=Mallee Park Seaton Ave Port Lincoln SA 5606 Australia;X-APPLE-RADIUS=500;X-TITLE=Seaton Ave:geo:135.8621426,-34.7333823
END:VEVENT
BEGIN:VEVENT
DTSTART;TZID=Australia/Adelaide:20250720T090000
DTEND;TZID=Australia/Adelaide:20250720T140000
DTSTAMP:20260422T120026
CREATED:20250214T050224Z
LAST-MODIFIED:20250214T050259Z
UID:80352-1753002000-1753020000@portlincoln.com.au
SUMMARY:Port Lincoln Family Markets
DESCRIPTION:Markets are held monthly offering a range of stalls including local produce\, baked goods\, unique and handmade items. \nIf you wish to have a stall please contact Judy on 0448 925 065.
URL:https://portlincoln.com.au/event/lincoln-markets-july/
LOCATION:Port Lincoln\, Port Lincoln\, 5606\, Australia
CATEGORIES:Community Event,Markets
ATTACH;FMTTYPE=image/jpeg:https://portlincoln.com.au/wp-content/uploads/2022/10/81882816_1368860489940111_2163923966765301760_n.jpg
GEO:-34.7301943;135.8504838
END:VEVENT
BEGIN:VEVENT
DTSTART;TZID=Australia/Adelaide:20250720T140000
DTEND;TZID=Australia/Adelaide:20250720T170000
DTSTAMP:20260422T120026
CREATED:20250607T040353Z
LAST-MODIFIED:20250607T040643Z
UID:81065-1753020000-1753030800@portlincoln.com.au
SUMMARY:Bravery & Betrayal
DESCRIPTION:BRAVERY & BETRAYAL\nThe True Story of the S.A.S. in Afghanistan\nAfter 9/11 our Nation sent the Aussie S.A.S. into harm’s way to protect us. 25 years later\, their suffering continues. The S.A.S. now tell their story of what really happened in Afghanistan and Iraq. \nFeaturing exclusive\, never before seen interviews with officers and soldiers of the S.A.S.. As Prime Ministers Rudd\, Howard and Abbott tell for the first time what they knew\, and the brave pilots of the American Army reveal what they saw. \nMost heartbreaking of all are the stories by the wives\, mothers\, widows and children left behind. \nThis is their story\, in their words\, of the S.A.S. in the War on Terror.
URL:https://portlincoln.com.au/event/bravery-and-betrayal/
LOCATION:Port Lincoln RSL\, 14 Hallett Place\, Port Lincoln\, SA\, 5606\, Australia
CATEGORIES:Classes, Lessons, Workshops and Talks,Community Event,Event,Exhibition and Shows
ATTACH;FMTTYPE=image/jpeg:https://portlincoln.com.au/wp-content/uploads/2025/06/489457245_3808972842747143_98323387225030691_n.jpg
GEO:-34.7204167;135.8563463
X-APPLE-STRUCTURED-LOCATION;VALUE=URI;X-ADDRESS=Port Lincoln RSL 14 Hallett Place Port Lincoln SA 5606 Australia;X-APPLE-RADIUS=500;X-TITLE=14 Hallett Place:geo:135.8563463,-34.7204167
END:VEVENT
BEGIN:VEVENT
DTSTART;TZID=Australia/Adelaide:20250725T190000
DTEND;TZID=Australia/Adelaide:20250725T210000
DTSTAMP:20260422T120026
CREATED:20250607T015500Z
LAST-MODIFIED:20250607T015710Z
UID:81044-1753470000-1753477200@portlincoln.com.au
SUMMARY:Granny Flaps Comedy Bingo
DESCRIPTION:Welcome to the hilarious and unpredictable world of Granny Flaps Comedy Bingo! Join us for a night of laughter\, drinks\, and games like you’ve never seen before. Award winning comedian Granny Flaps is your host and the amazing DJ Tim keeps the vibes going throughout the night.Date: Friday 25th July 2025Time: 7:00 PMLocation: Jump Ship BrewingGet ready to win some amazing prizes\, enjoy great company\, and experience a night you won’t forget. Food available. Book your table through the venue.THIS IS NOT AN ACTUAL BINGO NIGHT
URL:https://portlincoln.com.au/event/granny-flapys-comedy-bingo/
LOCATION:Jumpship Brewing\, 11-13 Edinburgh Street\, Port Lincoln\, 5606\, Australia
CATEGORIES:Community Event,Concert or Performance,Event,Food and Wine
ATTACH;FMTTYPE=image/jpeg:https://portlincoln.com.au/wp-content/uploads/2025/06/495166159_993639476307189_7604670221615433003_n.jpg
GEO:-34.7241695;135.8605863
X-APPLE-STRUCTURED-LOCATION;VALUE=URI;X-ADDRESS=Jumpship Brewing 11-13 Edinburgh Street Port Lincoln 5606 Australia;X-APPLE-RADIUS=500;X-TITLE=11-13 Edinburgh Street:geo:135.8605863,-34.7241695
END:VEVENT
END:VCALENDAR