BEGIN:VCALENDAR
VERSION:2.0
PRODID:-//Port Lincoln, South Australia - ECPv6.15.18//NONSGML v1.0//EN
CALSCALE:GREGORIAN
METHOD:PUBLISH
X-WR-CALNAME:Port Lincoln, South Australia
X-ORIGINAL-URL:https://portlincoln.com.au
X-WR-CALDESC:Events for Port Lincoln, South Australia
REFRESH-INTERVAL;VALUE=DURATION:PT1H
X-Robots-Tag:noindex
X-PUBLISHED-TTL:PT1H
BEGIN:VTIMEZONE
TZID:Australia/Adelaide
BEGIN:STANDARD
TZOFFSETFROM:+1030
TZOFFSETTO:+0930
TZNAME:ACST
DTSTART:20250405T163000
END:STANDARD
BEGIN:DAYLIGHT
TZOFFSETFROM:+0930
TZOFFSETTO:+1030
TZNAME:ACDT
DTSTART:20251004T163000
END:DAYLIGHT
BEGIN:STANDARD
TZOFFSETFROM:+1030
TZOFFSETTO:+0930
TZNAME:ACST
DTSTART:20260404T163000
END:STANDARD
BEGIN:DAYLIGHT
TZOFFSETFROM:+0930
TZOFFSETTO:+1030
TZNAME:ACDT
DTSTART:20261003T163000
END:DAYLIGHT
BEGIN:STANDARD
TZOFFSETFROM:+1030
TZOFFSETTO:+0930
TZNAME:ACST
DTSTART:20270403T163000
END:STANDARD
BEGIN:DAYLIGHT
TZOFFSETFROM:+0930
TZOFFSETTO:+1030
TZNAME:ACDT
DTSTART:20271002T163000
END:DAYLIGHT
END:VTIMEZONE
BEGIN:VEVENT
DTSTART;TZID=Australia/Adelaide:20260426T100000
DTEND;TZID=Australia/Adelaide:20260426T170000
DTSTAMP:20260426T064554
CREATED:20260209T042146Z
LAST-MODIFIED:20260209T042233Z
UID:82525-1777197600-1777222800@portlincoln.com.au
SUMMARY:Bottlebrush
DESCRIPTION:Introducing the 2026 SALT Festival Feature Exhibition\, Bottlebrush. \nCreated by talented young artists in our Bottlebrush Studio classes\, this exhibition brings together an eclectic mix of artwork across a wide range of mediums and subject matter\, with no set theme and plenty of surprises! Expect the unexpected… and prepare to be seriously impressed by what these creative local kids have dreamed up! \nBottlebrush will open with the Festival on Friday the 16th of April from 5:30pm and will continue through the entire Festival. \n 
URL:https://portlincoln.com.au/event/bottlebrush10/
LOCATION:Nautilus Theatre\, 66 Tasman Terrace\, Port Lincoln\, 5606\, Australia
CATEGORIES:Community Event,Exhibition and Shows,Festivals and Celebrations
ATTACH;FMTTYPE=image/jpeg:https://portlincoln.com.au/wp-content/uploads/2026/02/Feature-Exhibition.jpg
GEO:-34.719961;135.85756
X-APPLE-STRUCTURED-LOCATION;VALUE=URI;X-ADDRESS=Nautilus Theatre 66 Tasman Terrace Port Lincoln 5606 Australia;X-APPLE-RADIUS=500;X-TITLE=66 Tasman Terrace:geo:135.85756,-34.719961
END:VEVENT
BEGIN:VEVENT
DTSTART;TZID=Australia/Adelaide:20260426T100000
DTEND;TZID=Australia/Adelaide:20260426T170000
DTSTAMP:20260426T064554
CREATED:20260211T030003Z
LAST-MODIFIED:20260211T030104Z
UID:82588-1777197600-1777222800@portlincoln.com.au
SUMMARY:The Shape of Memory
DESCRIPTION:How do you paint memory? Have you ever looked at a portrait and wondered why additional objects have been included? Have you ever wondered about the objects painted in a Still Life painting? These things may tell you a little more about the person in the portrait or the painter of a Still Life setting. \nWell\, the Port Lincoln Art Group decided to make Still Life paintings that tell a story about the owner of the objects. The owner maybe an art group member\, they could be a friend or a family member. Why do these items mean a lot to them\, do they suggest what they love\, what they collect or what they are interested in? \nArt group members will present an exhibition of Still Life paintings that capture memory. Visitors will also have the opportunity to hear details of the “Still Life stories” by clicking on a QR code.
URL:https://portlincoln.com.au/event/the-shape-of-memory-26/
LOCATION:Nautilus Art Centre\, 66 Tasman Terrace\, Port Lincoln\, South Australia\, 5606\, Australia
CATEGORIES:Community Event,Exhibition and Shows,Festivals and Celebrations
ATTACH;FMTTYPE=image/jpeg:https://portlincoln.com.au/wp-content/uploads/2026/02/The-Shape-of-Memory.jpg
GEO:-34.7201113;135.8574207
X-APPLE-STRUCTURED-LOCATION;VALUE=URI;X-ADDRESS=Nautilus Art Centre 66 Tasman Terrace Port Lincoln South Australia 5606 Australia;X-APPLE-RADIUS=500;X-TITLE=66 Tasman Terrace:geo:135.8574207,-34.7201113
END:VEVENT
BEGIN:VEVENT
DTSTART;TZID=Australia/Adelaide:20260426T170000
DTEND;TZID=Australia/Adelaide:20260426T180000
DTSTAMP:20260426T064554
CREATED:20260213T011546Z
LAST-MODIFIED:20260213T011753Z
UID:82654-1777222800-1777226400@portlincoln.com.au
SUMMARY:Dial M For Mushrooms
DESCRIPTION:Bring a date – or an estranged family member – to a musical comedy that takes a mushroom-trip down memory lane\, exploring the murder trial that shocked the nation! \nFollow the jury\, locked away\, and slowly losing their grip on reality\, as they attempt to reach a verdict. \nFeaturing a live funk-rock soundtrack\, outrageous costumes\, and a style of absurd comedy best enjoyed shared. \n  \n★★★★★ “Their humour is off-the-wall\, quick\, absurd at times\, and undeniably entertaining. It’s whacky\, shocking\, stupid\, clever\, and very\, very funny.” Glam Adelaide\, 2025 \n  \nPlease note $2 booking fee
URL:https://portlincoln.com.au/event/dial-m-for-mushrooms/
LOCATION:Nautilus Theatre\, 66 Tasman Terrace\, Port Lincoln\, 5606\, Australia
CATEGORIES:Concert or Performance,Event,Exhibition and Shows,Festivals and Celebrations
ATTACH;FMTTYPE=image/jpeg:https://portlincoln.com.au/wp-content/uploads/2026/02/Dial-M-For-Mushrooms.jpg
GEO:-34.719961;135.85756
X-APPLE-STRUCTURED-LOCATION;VALUE=URI;X-ADDRESS=Nautilus Theatre 66 Tasman Terrace Port Lincoln 5606 Australia;X-APPLE-RADIUS=500;X-TITLE=66 Tasman Terrace:geo:135.85756,-34.719961
END:VEVENT
END:VCALENDAR