BEGIN:VCALENDAR
VERSION:2.0
PRODID:-//Port Lincoln, South Australia - ECPv6.15.18//NONSGML v1.0//EN
CALSCALE:GREGORIAN
METHOD:PUBLISH
X-WR-CALNAME:Port Lincoln, South Australia
X-ORIGINAL-URL:https://portlincoln.com.au
X-WR-CALDESC:Events for Port Lincoln, South Australia
REFRESH-INTERVAL;VALUE=DURATION:PT1H
X-Robots-Tag:noindex
X-PUBLISHED-TTL:PT1H
BEGIN:VTIMEZONE
TZID:Australia/Adelaide
BEGIN:STANDARD
TZOFFSETFROM:+1030
TZOFFSETTO:+0930
TZNAME:ACST
DTSTART:20250405T163000
END:STANDARD
BEGIN:DAYLIGHT
TZOFFSETFROM:+0930
TZOFFSETTO:+1030
TZNAME:ACDT
DTSTART:20251004T163000
END:DAYLIGHT
BEGIN:STANDARD
TZOFFSETFROM:+1030
TZOFFSETTO:+0930
TZNAME:ACST
DTSTART:20260404T163000
END:STANDARD
BEGIN:DAYLIGHT
TZOFFSETFROM:+0930
TZOFFSETTO:+1030
TZNAME:ACDT
DTSTART:20261003T163000
END:DAYLIGHT
BEGIN:STANDARD
TZOFFSETFROM:+1030
TZOFFSETTO:+0930
TZNAME:ACST
DTSTART:20270403T163000
END:STANDARD
BEGIN:DAYLIGHT
TZOFFSETFROM:+0930
TZOFFSETTO:+1030
TZNAME:ACDT
DTSTART:20271002T163000
END:DAYLIGHT
END:VTIMEZONE
BEGIN:VEVENT
DTSTART;TZID=Australia/Adelaide:20260421T100000
DTEND;TZID=Australia/Adelaide:20260421T160000
DTSTAMP:20260421T054906
CREATED:20260209T050853Z
LAST-MODIFIED:20260209T052242Z
UID:82546-1776765600-1776787200@portlincoln.com.au
SUMMARY:Megafauna of the Great Southern Reef - A VR Experience
DESCRIPTION:Megafauna of the Great Southern Reef – A VR Experience\nStep into an unforgettable journey beneath the waves with our immersive VR experience\, bringing the Great Southern Reef to life like never before! \nParticipants will embark on a breathtaking virtual dive\, exploring stunning 360° footage of iconic marine life\, including grey nurse sharks\, humpback whales\, eagle rays\, dolphins\, sea dragons\, octopuses\, blue devil fish\, and more. This captivating experience is created by Experiencing Marine Sanctuaries (EMS) and renowned 360° underwater videographer and storyteller\, Carl Charter. \nPlease note $2 booking fee per ticket
URL:https://portlincoln.com.au/event/megafauna-vr1/
LOCATION:Nautilus Theatre\, 66 Tasman Terrace\, Port Lincoln\, 5606\, Australia
CATEGORIES:Event,Exhibition and Shows,Festivals and Celebrations
ATTACH;FMTTYPE=image/jpeg:https://portlincoln.com.au/wp-content/uploads/2026/02/VR-Workshop.jpg
GEO:-34.719961;135.85756
X-APPLE-STRUCTURED-LOCATION;VALUE=URI;X-ADDRESS=Nautilus Theatre 66 Tasman Terrace Port Lincoln 5606 Australia;X-APPLE-RADIUS=500;X-TITLE=66 Tasman Terrace:geo:135.85756,-34.719961
END:VEVENT
BEGIN:VEVENT
DTSTART;TZID=Australia/Adelaide:20260421T100000
DTEND;TZID=Australia/Adelaide:20260421T190000
DTSTAMP:20260421T054906
CREATED:20260211T025549Z
LAST-MODIFIED:20260211T025626Z
UID:82578-1776765600-1776798000@portlincoln.com.au
SUMMARY:The Shape of Memory
DESCRIPTION:How do you paint memory? Have you ever looked at a portrait and wondered why additional objects have been included? Have you ever wondered about the objects painted in a Still Life painting? These things may tell you a little more about the person in the portrait or the painter of a Still Life setting. \nWell\, the Port Lincoln Art Group decided to make Still Life paintings that tell a story about the owner of the objects. The owner maybe an art group member\, they could be a friend or a family member. Why do these items mean a lot to them\, do they suggest what they love\, what they collect or what they are interested in? \nArt group members will present an exhibition of Still Life paintings that capture memory. Visitors will also have the opportunity to hear details of the “Still Life stories” by clicking on a QR code.
URL:https://portlincoln.com.au/event/the-shape-of-memory-21/
LOCATION:Nautilus Art Centre\, 66 Tasman Terrace\, Port Lincoln\, South Australia\, 5606\, Australia
CATEGORIES:Community Event,Exhibition and Shows,Festivals and Celebrations
ATTACH;FMTTYPE=image/jpeg:https://portlincoln.com.au/wp-content/uploads/2026/02/The-Shape-of-Memory.jpg
GEO:-34.7201113;135.8574207
X-APPLE-STRUCTURED-LOCATION;VALUE=URI;X-ADDRESS=Nautilus Art Centre 66 Tasman Terrace Port Lincoln South Australia 5606 Australia;X-APPLE-RADIUS=500;X-TITLE=66 Tasman Terrace:geo:135.8574207,-34.7201113
END:VEVENT
BEGIN:VEVENT
DTSTART;TZID=Australia/Adelaide:20260421T100000
DTEND;TZID=Australia/Adelaide:20260421T203000
DTSTAMP:20260421T054906
CREATED:20260209T041756Z
LAST-MODIFIED:20260209T041819Z
UID:82515-1776765600-1776803400@portlincoln.com.au
SUMMARY:Bottlebrush
DESCRIPTION:Introducing the 2026 SALT Festival Feature Exhibition\, Bottlebrush. \nCreated by talented young artists in our Bottlebrush Studio classes\, this exhibition brings together an eclectic mix of artwork across a wide range of mediums and subject matter\, with no set theme and plenty of surprises! Expect the unexpected… and prepare to be seriously impressed by what these creative local kids have dreamed up! \nBottlebrush will open with the Festival on Friday the 16th of April from 5:30pm and will continue through the entire Festival. \n 
URL:https://portlincoln.com.au/event/bottlebrush5/
LOCATION:Nautilus Theatre\, 66 Tasman Terrace\, Port Lincoln\, 5606\, Australia
CATEGORIES:Community Event,Exhibition and Shows,Festivals and Celebrations
ATTACH;FMTTYPE=image/jpeg:https://portlincoln.com.au/wp-content/uploads/2026/02/Feature-Exhibition.jpg
GEO:-34.719961;135.85756
X-APPLE-STRUCTURED-LOCATION;VALUE=URI;X-ADDRESS=Nautilus Theatre 66 Tasman Terrace Port Lincoln 5606 Australia;X-APPLE-RADIUS=500;X-TITLE=66 Tasman Terrace:geo:135.85756,-34.719961
END:VEVENT
BEGIN:VEVENT
DTSTART;TZID=Australia/Adelaide:20260421T120000
DTEND;TZID=Australia/Adelaide:20260421T150000
DTSTAMP:20260421T054906
CREATED:20260212T001355Z
LAST-MODIFIED:20260212T001413Z
UID:82600-1776772800-1776783600@portlincoln.com.au
SUMMARY:Stitches & Stories - Photos on Fabric
DESCRIPTION:How do you paint memory? Have you ever looked at a portrait and wondered why additional objects have been included? Have you ever wondered about the objects painted in a Still Life painting? These things may tell you a little more about the person in the portrait or the painter of a Still Life setting. \nWell\, the Port Lincoln Art Group decided to make Still Life paintings that tell a story about the owner of the objects. The owner maybe an art group member\, they could be a friend or a family member. Why do these items mean a lot to them\, do they suggest what they love\, what they collect or what they are interested in? \nArt group members will present an exhibition of Still Life paintings that capture memory. Visitors will also have the opportunity to hear details of the “Still Life stories” by clicking on a QR code.
URL:https://portlincoln.com.au/event/stitchesandstories-21/
LOCATION:Doddlife Photography Studios\, 8 King Street\, Port Lincoln\, SA\, 5606
CATEGORIES:Community Event,Exhibition and Shows,Festivals and Celebrations
ATTACH;FMTTYPE=image/jpeg:https://portlincoln.com.au/wp-content/uploads/2026/02/Stitches-Stories-square_20260204_141513_0000.jpg
GEO:-34.7227631;135.8633457
X-APPLE-STRUCTURED-LOCATION;VALUE=URI;X-ADDRESS=Doddlife Photography Studios 8 King Street Port Lincoln SA 5606;X-APPLE-RADIUS=500;X-TITLE=8 King Street:geo:135.8633457,-34.7227631
END:VEVENT
END:VCALENDAR