BEGIN:VCALENDAR
VERSION:2.0
PRODID:-//Port Lincoln, South Australia - ECPv6.15.18//NONSGML v1.0//EN
CALSCALE:GREGORIAN
METHOD:PUBLISH
X-WR-CALNAME:Port Lincoln, South Australia
X-ORIGINAL-URL:https://portlincoln.com.au
X-WR-CALDESC:Events for Port Lincoln, South Australia
REFRESH-INTERVAL;VALUE=DURATION:PT1H
X-Robots-Tag:noindex
X-PUBLISHED-TTL:PT1H
BEGIN:VTIMEZONE
TZID:Australia/Adelaide
BEGIN:STANDARD
TZOFFSETFROM:+1030
TZOFFSETTO:+0930
TZNAME:ACST
DTSTART:20250405T163000
END:STANDARD
BEGIN:DAYLIGHT
TZOFFSETFROM:+0930
TZOFFSETTO:+1030
TZNAME:ACDT
DTSTART:20251004T163000
END:DAYLIGHT
BEGIN:STANDARD
TZOFFSETFROM:+1030
TZOFFSETTO:+0930
TZNAME:ACST
DTSTART:20260404T163000
END:STANDARD
BEGIN:DAYLIGHT
TZOFFSETFROM:+0930
TZOFFSETTO:+1030
TZNAME:ACDT
DTSTART:20261003T163000
END:DAYLIGHT
BEGIN:STANDARD
TZOFFSETFROM:+1030
TZOFFSETTO:+0930
TZNAME:ACST
DTSTART:20270403T163000
END:STANDARD
BEGIN:DAYLIGHT
TZOFFSETFROM:+0930
TZOFFSETTO:+1030
TZNAME:ACDT
DTSTART:20271002T163000
END:DAYLIGHT
END:VTIMEZONE
BEGIN:VEVENT
DTSTART;TZID=Australia/Adelaide:20260419T100000
DTEND;TZID=Australia/Adelaide:20260419T170000
DTSTAMP:20260422T022544
CREATED:20260211T011349Z
LAST-MODIFIED:20260211T011429Z
UID:82563-1776592800-1776618000@portlincoln.com.au
SUMMARY:Cardboard City - Ocean Resort
DESCRIPTION:The Mayor of Cardboard City has declared the city open! But after the great storm\, they need your help to rebuild the city. Grab some cardboard and get building! \nThe third iteration of Cardboard City is set along the coast\, build anything you like\, from cardboard toasters to cardboard sharks! \nAll ages welcome\, booking not required. \nAll minors must be accompanied by their parent or guardian at all times \nPlease note 25 person max at any one time.
URL:https://portlincoln.com.au/event/cardboard-city-ocean-resort-19/
LOCATION:Nautilus Art Centre\, 66 Tasman Terrace\, Port Lincoln\, South Australia\, 5606\, Australia
CATEGORIES:Community Event,Exhibition and Shows,Festivals and Celebrations
ATTACH;FMTTYPE=image/jpeg:https://portlincoln.com.au/wp-content/uploads/2025/02/Cardboard-Cityu.jpg
GEO:-34.7201113;135.8574207
X-APPLE-STRUCTURED-LOCATION;VALUE=URI;X-ADDRESS=Nautilus Art Centre 66 Tasman Terrace Port Lincoln South Australia 5606 Australia;X-APPLE-RADIUS=500;X-TITLE=66 Tasman Terrace:geo:135.8574207,-34.7201113
END:VEVENT
BEGIN:VEVENT
DTSTART;TZID=Australia/Adelaide:20260419T100000
DTEND;TZID=Australia/Adelaide:20260419T190000
DTSTAMP:20260422T022544
CREATED:20260211T021059Z
LAST-MODIFIED:20260211T021120Z
UID:82574-1776592800-1776625200@portlincoln.com.au
SUMMARY:The Shape of Memory
DESCRIPTION:How do you paint memory? Have you ever looked at a portrait and wondered why additional objects have been included? Have you ever wondered about the objects painted in a Still Life painting? These things may tell you a little more about the person in the portrait or the painter of a Still Life setting. \nWell\, the Port Lincoln Art Group decided to make Still Life paintings that tell a story about the owner of the objects. The owner maybe an art group member\, they could be a friend or a family member. Why do these items mean a lot to them\, do they suggest what they love\, what they collect or what they are interested in? \nArt group members will present an exhibition of Still Life paintings that capture memory. Visitors will also have the opportunity to hear details of the “Still Life stories” by clicking on a QR code.
URL:https://portlincoln.com.au/event/the-shape-of-memory-19/
LOCATION:Nautilus Art Centre\, 66 Tasman Terrace\, Port Lincoln\, South Australia\, 5606\, Australia
CATEGORIES:Community Event,Exhibition and Shows,Festivals and Celebrations
ATTACH;FMTTYPE=image/jpeg:https://portlincoln.com.au/wp-content/uploads/2026/02/The-Shape-of-Memory.jpg
GEO:-34.7201113;135.8574207
X-APPLE-STRUCTURED-LOCATION;VALUE=URI;X-ADDRESS=Nautilus Art Centre 66 Tasman Terrace Port Lincoln South Australia 5606 Australia;X-APPLE-RADIUS=500;X-TITLE=66 Tasman Terrace:geo:135.8574207,-34.7201113
END:VEVENT
BEGIN:VEVENT
DTSTART;TZID=Australia/Adelaide:20260419T100000
DTEND;TZID=Australia/Adelaide:20260419T203000
DTSTAMP:20260422T022544
CREATED:20260209T041656Z
LAST-MODIFIED:20260209T041719Z
UID:82511-1776592800-1776630600@portlincoln.com.au
SUMMARY:Bottlebrush
DESCRIPTION:Introducing the 2026 SALT Festival Feature Exhibition\, Bottlebrush. \nCreated by talented young artists in our Bottlebrush Studio classes\, this exhibition brings together an eclectic mix of artwork across a wide range of mediums and subject matter\, with no set theme and plenty of surprises! Expect the unexpected… and prepare to be seriously impressed by what these creative local kids have dreamed up! \nBottlebrush will open with the Festival on Friday the 16th of April from 5:30pm and will continue through the entire Festival. \n 
URL:https://portlincoln.com.au/event/bottlebrush3/
LOCATION:Nautilus Theatre\, 66 Tasman Terrace\, Port Lincoln\, 5606\, Australia
CATEGORIES:Community Event,Exhibition and Shows,Festivals and Celebrations
ATTACH;FMTTYPE=image/jpeg:https://portlincoln.com.au/wp-content/uploads/2026/02/Feature-Exhibition.jpg
GEO:-34.719961;135.85756
X-APPLE-STRUCTURED-LOCATION;VALUE=URI;X-ADDRESS=Nautilus Theatre 66 Tasman Terrace Port Lincoln 5606 Australia;X-APPLE-RADIUS=500;X-TITLE=66 Tasman Terrace:geo:135.85756,-34.719961
END:VEVENT
BEGIN:VEVENT
DTSTART;TZID=Australia/Adelaide:20260419T120000
DTEND;TZID=Australia/Adelaide:20260419T150000
DTSTAMP:20260422T022544
CREATED:20260212T000310Z
LAST-MODIFIED:20260212T000406Z
UID:82596-1776600000-1776610800@portlincoln.com.au
SUMMARY:Stitches & Stories - Photos on Fabric
DESCRIPTION:How do you paint memory? Have you ever looked at a portrait and wondered why additional objects have been included? Have you ever wondered about the objects painted in a Still Life painting? These things may tell you a little more about the person in the portrait or the painter of a Still Life setting. \nWell\, the Port Lincoln Art Group decided to make Still Life paintings that tell a story about the owner of the objects. The owner maybe an art group member\, they could be a friend or a family member. Why do these items mean a lot to them\, do they suggest what they love\, what they collect or what they are interested in? \nArt group members will present an exhibition of Still Life paintings that capture memory. Visitors will also have the opportunity to hear details of the “Still Life stories” by clicking on a QR code.
URL:https://portlincoln.com.au/event/stitchesandstories-2/
LOCATION:Doddlife Photography Studios\, 8 King Street\, Port Lincoln\, SA\, 5606
CATEGORIES:Community Event,Exhibition and Shows,Festivals and Celebrations
ATTACH;FMTTYPE=image/jpeg:https://portlincoln.com.au/wp-content/uploads/2026/02/Stitches-Stories-square_20260204_141513_0000.jpg
GEO:-34.7227631;135.8633457
X-APPLE-STRUCTURED-LOCATION;VALUE=URI;X-ADDRESS=Doddlife Photography Studios 8 King Street Port Lincoln SA 5606;X-APPLE-RADIUS=500;X-TITLE=8 King Street:geo:135.8633457,-34.7227631
END:VEVENT
BEGIN:VEVENT
DTSTART;TZID=Australia/Adelaide:20260419T130000
DTEND;TZID=Australia/Adelaide:20260419T143000
DTSTAMP:20260422T022544
CREATED:20260212T010037Z
LAST-MODIFIED:20260212T010737Z
UID:82613-1776603600-1776609000@portlincoln.com.au
SUMMARY:Picture This
DESCRIPTION:Picture This \nEver wondered how an artist thinks? \nJoin us for an afternoon of visual storytelling\, creative secrets\, and interactive conversations!
URL:https://portlincoln.com.au/event/picture-this/
LOCATION:Port Lincoln Brewing Co.\, 28 London Street\, Port Lincoln\, South Australia\, 5606\, Australia
CATEGORIES:Community Event,Event,Exhibition and Shows,Festivals and Celebrations
ATTACH;FMTTYPE=image/jpeg:https://portlincoln.com.au/wp-content/uploads/2026/02/Picture-This.jpg
GEO:-34.724806;135.8699779
X-APPLE-STRUCTURED-LOCATION;VALUE=URI;X-ADDRESS=Port Lincoln Brewing Co. 28 London Street Port Lincoln South Australia 5606 Australia;X-APPLE-RADIUS=500;X-TITLE=28 London Street:geo:135.8699779,-34.724806
END:VEVENT
BEGIN:VEVENT
DTSTART;TZID=Australia/Adelaide:20260419T180000
DTEND;TZID=Australia/Adelaide:20260419T200000
DTSTAMP:20260422T022544
CREATED:20260212T010941Z
LAST-MODIFIED:20260212T012014Z
UID:82616-1776621600-1776628800@portlincoln.com.au
SUMMARY:Our Place\, Our Future
DESCRIPTION:Free and All-ages\, Our Place\, Our Future is a community-led film and multi-arts performance that is set to delight\, entertain and enlighten audiences of all ages. Created by local artists\, writers\, filmmakers and musicians. Join us for a very special evening as we explore the culture and community between us and the ocean. \nWith the increasing social and environmental challenges posed by climate change and the algal bloom This project marks an important opportunity for the community to gather\, connect and build resilience in the face of environmental disruption. The collaboration of artists\, marine scientists\, local industry and community voices will strengthen the understanding of ocean health and foster increased collective stewardship for both the Eyre Peninsula and South Australia’s future. \nFunded by the Foundation for Rural & Regional Renewal \nThis project was made possible by the Australian Government Regional Arts Fund\, which supports the arts in regional and remote Australia
URL:https://portlincoln.com.au/event/our-place-our-future/
LOCATION:Port Lincoln Foreshore\, Tasman Terrace\, Port Lincoln\, 5606\, Australia
CATEGORIES:Community Event,Event,Exhibition and Shows,Festivals and Celebrations
ATTACH;FMTTYPE=image/jpeg:https://portlincoln.com.au/wp-content/uploads/2026/02/Our-Place-Our-Future.jpg
GEO:-34.7198041;135.8577837
X-APPLE-STRUCTURED-LOCATION;VALUE=URI;X-ADDRESS=Port Lincoln Foreshore Tasman Terrace Port Lincoln 5606 Australia;X-APPLE-RADIUS=500;X-TITLE=Tasman Terrace:geo:135.8577837,-34.7198041
END:VEVENT
END:VCALENDAR